BEGIN:VCALENDAR
VERSION:2.0
PRODID:-//wp-events-plugin.com//7.2.3.1//EN
TZID:America/Los_Angeles
X-WR-TIMEZONE:America/Los_Angeles
BEGIN:VEVENT
UID:114@ilsca.com
DTSTART;TZID=America/Los_Angeles:20260114T183000
DTEND;TZID=America/Los_Angeles:20260429T193000
DTSTAMP:20251230T215339Z
URL:https://ilsca.com/events/adults-spanish-1-online-wed/
SUMMARY:Adults Spanish 1\, Online Wed
DESCRIPTION:Class Information\nAges: For adults 18 years and older.\nLangua
 ge Level: Designed for adults with zero to little Spanish knowledge.\nDesc
 ription: This class is designed for adult learners to develop basic Spanis
 h skills in a supportive and interactive environment. Through conversation
  practice\, cultural activities\, and practical exercises\, students will 
 build confidence and foundational language abilities.\nNo Class: Please no
 te\, this class will not meet on Feb 18 and Apr 1\nBy registering\, you ag
 ree to the terms outlined in our Student Agreement and Refund Policy.
ATTACH;FMTTYPE=image/jpeg:https://ilsca.com/wp-content/uploads/2024/12/lea
 rn-Spanish.png
CATEGORIES:Spanish
END:VEVENT
BEGIN:VTIMEZONE
TZID:America/Los_Angeles
X-LIC-LOCATION:America/Los_Angeles
BEGIN:STANDARD
DTSTART:20251102T010000
TZOFFSETFROM:-0700
TZOFFSETTO:-0800
TZNAME:PST
END:STANDARD
BEGIN:DAYLIGHT
DTSTART:20260308T030000
TZOFFSETFROM:-0800
TZOFFSETTO:-0700
TZNAME:PDT
END:DAYLIGHT
END:VTIMEZONE
END:VCALENDAR