BEGIN:VCALENDAR
VERSION:2.0
PRODID:-//wp-events-plugin.com//7.2.3.1//EN
TZID:America/Los_Angeles
X-WR-TIMEZONE:America/Los_Angeles
BEGIN:VEVENT
UID:155@ilsca.com
DTSTART;TZID=America/Los_Angeles:20260613T110000
DTEND;TZID=America/Los_Angeles:20260801T120000
DTSTAMP:20260207T024403Z
URL:https://ilsca.com/events/adults-spanish-2conversation-sat/
SUMMARY:Adults Spanish 2(Conversation) - Sat
DESCRIPTION:Class Information\nAges: Adults 18+Language Level: For adults w
 ho have completed Beginner Spanish or have equivalent experience\nDescript
 ion:This class is the natural next step for adults who already have a basi
 c foundation in Spanish and are ready to communicate with greater confiden
 ce. The focus is on speaking and listening through guided\, real-life conv
 ersation practice.\nStudents expand vocabulary\, strengthen grammar in con
 text\, and practice expressing ideas more clearly in everyday situations. 
 The supportive\, interactive environment encourages steady progress and he
 lps students feel comfortable thinking\, responding\, and communicating in
  Spanish with growing ease.\nThis class is ideal for adults who want to mo
 ve beyond the basics and continue building practical\, confident Spanish s
 kills.\nNo Class: Please note\, this class will not meet on July 4\nBy reg
 istering\, you agree to the terms outlined in our Student Agreement and Re
 fund Policy.
ATTACH;FMTTYPE=image/jpeg:https://ilsca.com/wp-content/uploads/2024/12/lea
 rn-Spanish.png
CATEGORIES:Spanish
LOCATION:Pitzer College\, 1050 North Mills ave\, Claremont\, California\, 9
 1711\, United States
X-APPLE-STRUCTURED-LOCATION;VALUE=URI;X-ADDRESS=1050 North Mills ave\, Clar
 emont\, California\, 91711\, United States;X-APPLE-RADIUS=100;X-TITLE=Pitz
 er College:geo:0,0
END:VEVENT
BEGIN:VTIMEZONE
TZID:America/Los_Angeles
X-LIC-LOCATION:America/Los_Angeles
BEGIN:DAYLIGHT
DTSTART:20260308T030000
TZOFFSETFROM:-0800
TZOFFSETTO:-0700
TZNAME:PDT
END:DAYLIGHT
END:VTIMEZONE
END:VCALENDAR