BEGIN:VCALENDAR
VERSION:2.0
PRODID:-//wp-events-plugin.com//7.2.3.1//EN
TZID:America/Los_Angeles
X-WR-TIMEZONE:America/Los_Angeles
BEGIN:VEVENT
UID:153@ilsca.com
DTSTART;TZID=America/Los_Angeles:20260613T110000
DTEND;TZID=America/Los_Angeles:20260801T120000
DTSTAMP:20260207T025510Z
URL:https://ilsca.com/events/adults-spanish-3-sat/
SUMMARY:Adults Spanish 3 (Conversation) - Sat
DESCRIPTION: Class Information\nAges: Adults 18+Language Level: For adults 
 who have completed Spanish Conversation 2 or have equivalent experience\nD
 escription:This class is designed for adults with an established foundatio
 n in Spanish who are ready to communicate with greater fluency and ease. T
 he focus is on strengthening speaking and listening skills through guided\
 , real-life conversation practice.\nStudents engage in longer and more det
 ailed conversations\, expand vocabulary\, and refine grammar in context wh
 ile exploring a wider range of everyday and professional topics. The suppo
 rtive\, interactive environment encourages active participation and steady
  progress\, helping students feel confident expressing themselves clearly 
 and naturally in Spanish.\nThis class is ideal for adults who want to move
  beyond structured practice and use Spanish more comfortably in real-world
  situations.\nNo Class: Please note\, this class will not meet on July 4.\
 nBy registering\, you agree to the terms outlined in our Student Agreement
  and Refund Policy.
ATTACH;FMTTYPE=image/jpeg:https://ilsca.com/wp-content/uploads/2024/12/lea
 rn-Spanish.png
CATEGORIES:Spanish
LOCATION:Pitzer College\, 1050 North Mills ave\, Claremont\, California\, 9
 1711\, United States
X-APPLE-STRUCTURED-LOCATION;VALUE=URI;X-ADDRESS=1050 North Mills ave\, Clar
 emont\, California\, 91711\, United States;X-APPLE-RADIUS=100;X-TITLE=Pitz
 er College:geo:0,0
END:VEVENT
BEGIN:VTIMEZONE
TZID:America/Los_Angeles
X-LIC-LOCATION:America/Los_Angeles
BEGIN:DAYLIGHT
DTSTART:20260308T030000
TZOFFSETFROM:-0800
TZOFFSETTO:-0700
TZNAME:PDT
END:DAYLIGHT
END:VTIMEZONE
END:VCALENDAR