BEGIN:VCALENDAR
VERSION:2.0
PRODID:-//wp-events-plugin.com//7.2.3.1//EN
TZID:America/Los_Angeles
X-WR-TIMEZONE:America/Los_Angeles
BEGIN:VEVENT
UID:117@ilsca.com
DTSTART;TZID=America/Los_Angeles:20260609T183000
DTEND;TZID=America/Los_Angeles:20260728T193000
DTSTAMP:20260207T032130Z
URL:https://ilsca.com/events/adults-spanish-4-online-tue/
SUMMARY:Adults Spanish 4 (Coversation) - Online Tue
DESCRIPTION: Class Information\nAges: Adults 18+Language Level: For adults 
 who have completed Spanish Conversation 3 or have equivalent experience\nD
 escription:This online class is designed for adults with an established fo
 undation in Spanish who are ready to communicate with greater fluency and 
 confidence. Building on skills developed in Spanish Conversation 3\, the f
 ocus is on sustained\, meaningful conversation in real-life contexts.\nStu
 dents engage in more detailed discussions\, refine grammar in context\, an
 d explore a wider range of everyday and professional topics through guided
  online conversation practice. The supportive virtual environment encourag
 es active participation and helps students express ideas clearly\, respond
  naturally\, and feel comfortable using Spanish in real-world situations.\
 nThis class is ideal for adults who want to continue strengthening their c
 onversational skills and speak Spanish with greater ease and confidence—
 from the convenience of home.\nNo Class: Please note\, this class will not
  meet on July 7\nBy registering\, you agree to the terms outlined in our S
 tudent Agreement and Refund Policy.
ATTACH;FMTTYPE=image/jpeg:https://ilsca.com/wp-content/uploads/2024/12/lea
 rn-Spanish.png
CATEGORIES:Spanish
LOCATION:Pitzer College\, 1050 North Mills ave\, Claremont\, California\, 9
 1711\, United States
X-APPLE-STRUCTURED-LOCATION;VALUE=URI;X-ADDRESS=1050 North Mills ave\, Clar
 emont\, California\, 91711\, United States;X-APPLE-RADIUS=100;X-TITLE=Pitz
 er College:geo:0,0
END:VEVENT
BEGIN:VTIMEZONE
TZID:America/Los_Angeles
X-LIC-LOCATION:America/Los_Angeles
BEGIN:DAYLIGHT
DTSTART:20260308T030000
TZOFFSETFROM:-0800
TZOFFSETTO:-0700
TZNAME:PDT
END:DAYLIGHT
END:VTIMEZONE
END:VCALENDAR