BEGIN:VCALENDAR
VERSION:2.0
PRODID:-//wp-events-plugin.com//7.2.3.1//EN
TZID:America/Los_Angeles
X-WR-TIMEZONE:America/Los_Angeles
BEGIN:VEVENT
UID:160@ilsca.com
DTSTART;TZID=America/Los_Angeles:20260613T130000
DTEND;TZID=America/Los_Angeles:20260801T140000
DTSTAMP:20260207T034555Z
URL:https://ilsca.com/events/adults-spanish-4-sat/
SUMMARY:Adults Spanish 4 (Conversation) - Sat
DESCRIPTION: Class Information\nAges: Adults 18+Language Level: For adults 
 who have completed Spanish Conversation 3 or have equivalent experience\nD
 escription:This class is designed for adults who are ready to communicate 
 with greater ease and precision in Spanish. Building on skills developed i
 n Spanish Conversation 3\, the focus is on strengthening fluency through e
 xtended\, real-life conversation.\nStudents participate in more complex di
 scussions\, refine grammar in context\, and explore a broader range of eve
 ryday and professional topics. Guided speaking practice helps students exp
 ress ideas more clearly and confidently while developing a more natural fl
 ow in Spanish.\nThis class is ideal for adults who want to continue advanc
 ing their conversational skills and feel comfortable using Spanish in a va
 riety of real-world situations.\nNo Class: Please note\, this class will n
 ot meet on July 4.\nBy registering\, you agree to the terms outlined in ou
 r Student Agreement and Refund Policy.
ATTACH;FMTTYPE=image/jpeg:https://ilsca.com/wp-content/uploads/2024/12/lea
 rn-Spanish.png
CATEGORIES:Spanish
LOCATION:Pitzer College\, 1050 North Mills ave\, Claremont\, California\, 9
 1711\, United States
X-APPLE-STRUCTURED-LOCATION;VALUE=URI;X-ADDRESS=1050 North Mills ave\, Clar
 emont\, California\, 91711\, United States;X-APPLE-RADIUS=100;X-TITLE=Pitz
 er College:geo:0,0
END:VEVENT
BEGIN:VTIMEZONE
TZID:America/Los_Angeles
X-LIC-LOCATION:America/Los_Angeles
BEGIN:DAYLIGHT
DTSTART:20260308T030000
TZOFFSETFROM:-0800
TZOFFSETTO:-0700
TZNAME:PDT
END:DAYLIGHT
END:VTIMEZONE
END:VCALENDAR