BEGIN:VCALENDAR
VERSION:2.0
PRODID:-//wp-events-plugin.com//7.2.3.1//EN
TZID:America/Los_Angeles
X-WR-TIMEZONE:America/Los_Angeles
BEGIN:VEVENT
UID:154@ilsca.com
DTSTART;TZID=America/Los_Angeles:20260613T110000
DTEND;TZID=America/Los_Angeles:20260801T120000
DTSTAMP:20260207T024003Z
URL:https://ilsca.com/events/adults-spanish-5-conversation-online-sat/
SUMMARY:Adults Spanish 5  (Conversation) - Online Sat
DESCRIPTION:Class Information\nAges: Adults 18+Language Level: For adults w
 ho have completed Spanish Conversation 4 or have equivalent experience\nDe
 scription:This advanced online class is designed for adults who are ready 
 to communicate with greater ease\, accuracy\, and confidence in Spanish. T
 he focus is on sustained conversation\, natural expression\, and refining 
 fluency through guided\, real-life discussions.\nStudents engage in more n
 uanced conversations\, expand vocabulary\, and strengthen grammar in conte
 xt while exploring a broad range of everyday\, cultural\, and practical to
 pics. The supportive virtual environment encourages active participation a
 nd helps students think\, respond\, and express ideas clearly and comforta
 bly in Spanish.\nThis class is ideal for adults who want to continue devel
 oping strong conversational skills and feel confident using Spanish in rea
 l-world situations.\nNo Class: Please note\, this class will not meet on J
 uly 4.\nBy registering\, you agree to the terms outlined in our Student Ag
 reement and Refund Policy.\n&nbsp\;
ATTACH;FMTTYPE=image/jpeg:https://ilsca.com/wp-content/uploads/2024/12/lea
 rn-Spanish.png
CATEGORIES:Spanish
END:VEVENT
BEGIN:VTIMEZONE
TZID:America/Los_Angeles
X-LIC-LOCATION:America/Los_Angeles
BEGIN:DAYLIGHT
DTSTART:20260308T030000
TZOFFSETFROM:-0800
TZOFFSETTO:-0700
TZNAME:PDT
END:DAYLIGHT
END:VTIMEZONE
END:VCALENDAR