BEGIN:VCALENDAR
VERSION:2.0
PRODID:-//wp-events-plugin.com//7.2.3.1//EN
TZID:America/Los_Angeles
X-WR-TIMEZONE:America/Los_Angeles
BEGIN:VEVENT
UID:159@ilsca.com
DTSTART;TZID=America/Los_Angeles:20260613T130000
DTEND;TZID=America/Los_Angeles:20260801T140000
DTSTAMP:20260207T030136Z
URL:https://ilsca.com/events/adults-spanish-5-conversation-sat/
SUMMARY:Adults Spanish 5 (Conversation)  - Sat
DESCRIPTION: Class Information\nAges: Adults 18+Language Level: For adults 
 who have completed Spanish Conversation 4 or have equivalent experience\nD
 escription:This class is designed for adults with a strong foundation in S
 panish who want to communicate with greater fluency\, accuracy\, and confi
 dence. The focus is on sustained\, meaningful conversation that encourages
  natural expression in both everyday and professional contexts.\nStudents 
 engage in more complex discussions\, practice advanced grammar in context\
 , and explore a wider range of topics through guided conversation. The sup
 portive environment helps students refine clarity\, expand vocabulary\, an
 d feel comfortable expressing ideas naturally and confidently in Spanish.\
 nNo Class: Please note\, this class will not meet on July 4.\nBy registeri
 ng\, you agree to the terms outlined in our Student Agreement and Refund P
 olicy.
ATTACH;FMTTYPE=image/jpeg:https://ilsca.com/wp-content/uploads/2024/12/lea
 rn-Spanish.png
CATEGORIES:Spanish
LOCATION:Pitzer College\, 1050 North Mills ave\, Claremont\, California\, 9
 1711\, United States
X-APPLE-STRUCTURED-LOCATION;VALUE=URI;X-ADDRESS=1050 North Mills ave\, Clar
 emont\, California\, 91711\, United States;X-APPLE-RADIUS=100;X-TITLE=Pitz
 er College:geo:0,0
END:VEVENT
BEGIN:VTIMEZONE
TZID:America/Los_Angeles
X-LIC-LOCATION:America/Los_Angeles
BEGIN:DAYLIGHT
DTSTART:20260308T030000
TZOFFSETFROM:-0800
TZOFFSETTO:-0700
TZNAME:PDT
END:DAYLIGHT
END:VTIMEZONE
END:VCALENDAR