BEGIN:VCALENDAR
VERSION:2.0
PRODID:-//wp-events-plugin.com//7.2.3.1//EN
TZID:America/Los_Angeles
X-WR-TIMEZONE:America/Los_Angeles
BEGIN:VEVENT
UID:144@ilsca.com
DTSTART;TZID=America/Los_Angeles:20260611T173000
DTEND;TZID=America/Los_Angeles:20260730T183000
DTSTAMP:20260207T014619Z
URL:https://ilsca.com/events/adults-spanish-beginner-thur-2/
SUMMARY:Adults Spanish (Beginner) – Thur
DESCRIPTION:Class Information\nAges: Adults 18+\nLanguage Level: No prior e
 xperience required\n\nDescription:\nThis class offers adult learners a wel
 coming\, confidence-building introduction to  the language in a supportiv
 e and interactive environment. Lessons focus on practical conversation and
  real-life language use\, helping students begin communicating comfortably
  from the start.\n\nThrough guided conversation practice\, cultural insigh
 ts\, and hands-on activities\, students build a strong foundation in the l
 anguage while gaining confidence step by step. The emphasis is on steady p
 rogress\, comfort\, and enjoyment—making this class ideal for adults lea
 rning at their own pace.\n\nNo Class: Please note\, this class will not me
 et on July 2.\nBy registering\, you agree to the terms outlined in our Stu
 dent Agreement and Refund Policy.
ATTACH;FMTTYPE=image/jpeg:https://ilsca.com/wp-content/uploads/2024/12/lea
 rn-Spanish.png
CATEGORIES:Spanish
LOCATION:Grace Lutheran\, 2108 N Euclid Ave\, Upland\, Ca\, 91784\, United 
 States
X-APPLE-STRUCTURED-LOCATION;VALUE=URI;X-ADDRESS=2108 N Euclid Ave\, Upland\
 , Ca\, 91784\, United States;X-APPLE-RADIUS=100;X-TITLE=Grace Lutheran:geo
 :0,0
END:VEVENT
BEGIN:VTIMEZONE
TZID:America/Los_Angeles
X-LIC-LOCATION:America/Los_Angeles
BEGIN:DAYLIGHT
DTSTART:20260308T030000
TZOFFSETFROM:-0800
TZOFFSETTO:-0700
TZNAME:PDT
END:DAYLIGHT
END:VTIMEZONE
END:VCALENDAR