BEGIN:VCALENDAR
VERSION:2.0
PRODID:-//wp-events-plugin.com//7.2.3.1//EN
TZID:America/Los_Angeles
X-WR-TIMEZONE:America/Los_Angeles
BEGIN:VEVENT
UID:157@ilsca.com
DTSTART;TZID=America/Los_Angeles:20260613T120000
DTEND;TZID=America/Los_Angeles:20260801T130000
DTSTAMP:20260207T025341Z
URL:https://ilsca.com/events/adults-spanish-conversation-online-sat/
SUMMARY:Adults Spanish Conversation - Online \, Sat
DESCRIPTION:Class Information\n\n\n 	\nAges: Adults 18+Language Level: For 
 adults who can already hold basic conversations in Spanish\nDescription:Th
 is online class is designed for adults who want to strengthen fluency and 
 communicate more confidently in Spanish. The focus is on meaningful\, real
 -life conversation that helps you think\, respond\, and express ideas more
  naturally.\nThrough guided discussions and interactive speaking practice\
 , students expand vocabulary\, refine grammar in context\, and improve cla
 rity and flow. The supportive virtual environment encourages active partic
 ipation and helps you feel comfortable using Spanish in everyday and socia
 l situations.\nPlease note that the class will not meet on July 2.\nAgreem
 ent: By registering\, you agree to the terms outlined in our  Student Agr
 eement and Refund Policy.\n\n\n&nbsp\;
ATTACH;FMTTYPE=image/jpeg:https://ilsca.com/wp-content/uploads/2024/12/lea
 rn-Spanish.png
CATEGORIES:Spanish
END:VEVENT
BEGIN:VTIMEZONE
TZID:America/Los_Angeles
X-LIC-LOCATION:America/Los_Angeles
BEGIN:DAYLIGHT
DTSTART:20260308T030000
TZOFFSETFROM:-0800
TZOFFSETTO:-0700
TZNAME:PDT
END:DAYLIGHT
END:VTIMEZONE
END:VCALENDAR