BEGIN:VCALENDAR
VERSION:2.0
PRODID:-//wp-events-plugin.com//7.2.3.1//EN
TZID:America/Los_Angeles
X-WR-TIMEZONE:America/Los_Angeles
BEGIN:VEVENT
UID:156@ilsca.com
DTSTART;TZID=America/Los_Angeles:20260613T120000
DTEND;TZID=America/Los_Angeles:20260801T130000
DTSTAMP:20260207T025028Z
URL:https://ilsca.com/events/adults-spanish-conversation-sat/
SUMMARY:Adults  Spanish Conversation\, Sat
DESCRIPTION:Class Information\n\n\n 	\nAges: Adults 18+Language Level: For 
 adults who can already hold basic conversations in Spanish\nDescription:Th
 is class is designed for adults who want to strengthen fluency and speak S
 panish with greater confidence and ease. The focus is on meaningful\, real
 -life conversation that helps you think\, respond\, and express ideas more
  naturally in Spanish.\nThrough guided discussions and interactive speakin
 g practice\, students expand vocabulary\, refine grammar in context\, and 
 improve clarity and flow. The supportive environment encourages active par
 ticipation\, helping you feel comfortable using Spanish in everyday and so
 cial situations.\nThis class is ideal for adults who already speak some Sp
 anish and want to become more confident\, natural communicators\n\n 	\nNo 
 Class: Please note that the class will not meet on July 2.\n\n 	\nAgreemen
 t: By registering\, you agree to the terms outlined in our  Student Agree
 ment and Refund Policy.\n\n\n&nbsp\;
ATTACH;FMTTYPE=image/jpeg:https://ilsca.com/wp-content/uploads/2024/12/lea
 rn-Spanish.png
CATEGORIES:Spanish
LOCATION:Pitzer College\, 1050 North Mills ave\, Claremont\, California\, 9
 1711\, United States
X-APPLE-STRUCTURED-LOCATION;VALUE=URI;X-ADDRESS=1050 North Mills ave\, Clar
 emont\, California\, 91711\, United States;X-APPLE-RADIUS=100;X-TITLE=Pitz
 er College:geo:0,0
END:VEVENT
BEGIN:VTIMEZONE
TZID:America/Los_Angeles
X-LIC-LOCATION:America/Los_Angeles
BEGIN:DAYLIGHT
DTSTART:20260308T030000
TZOFFSETFROM:-0800
TZOFFSETTO:-0700
TZNAME:PDT
END:DAYLIGHT
END:VTIMEZONE
END:VCALENDAR