BEGIN:VCALENDAR
VERSION:2.0
PRODID:-//wp-events-plugin.com//7.2.3.1//EN
TZID:America/Los_Angeles
X-WR-TIMEZONE:America/Los_Angeles
BEGIN:VEVENT
UID:143@ilsca.com
DTSTART;TZID=America/Los_Angeles:20260611T183000
DTEND;TZID=America/Los_Angeles:20260730T193000
DTSTAMP:20260207T014509Z
URL:https://ilsca.com/events/adults-spanish-conversation-thu/
SUMMARY:Adults Spanish (Conversation) - Thu
DESCRIPTION:Class Information\nAges: Adults 18+\nLanguage Level: For adults
  who have completed Beginner Level or have equivalent experience\n\nDescri
 ption:\nThis class is the natural continuation of our Beginner level  cou
 rse and is designed for adults who are ready to use the language more conf
 idently in real-life situations. The focus is on speaking\, listening\, an
 d expressing ideas clearly through guided conversation practice.\n\nStuden
 ts build fluency by practicing everyday conversations\, expanding vocabula
 ry\, and strengthening grammar in context—so learning feels practical an
 d approachable. The supportive\, interactive environment encourages steady
  progress and helps students feel comfortable thinking and responding in t
 he language with greater ease.\n\nThis class is ideal for adults who want 
 to move beyond the basics and gain confidence using the language in everyd
 ay and social situations.\nPlease note\, this class will not meet on July 
 2.\nBy registering\, you agree to the terms outlined in our Student Agreem
 ent and Refund Policy.\n&nbsp\;
ATTACH;FMTTYPE=image/jpeg:https://ilsca.com/wp-content/uploads/2024/12/lea
 rn-Spanish.png
CATEGORIES:Spanish
LOCATION:Grace Lutheran\, 2108 N Euclid Ave\, Upland\, Ca\, 91784\, United 
 States
X-APPLE-STRUCTURED-LOCATION;VALUE=URI;X-ADDRESS=2108 N Euclid Ave\, Upland\
 , Ca\, 91784\, United States;X-APPLE-RADIUS=100;X-TITLE=Grace Lutheran:geo
 :0,0
END:VEVENT
BEGIN:VTIMEZONE
TZID:America/Los_Angeles
X-LIC-LOCATION:America/Los_Angeles
BEGIN:DAYLIGHT
DTSTART:20260308T030000
TZOFFSETFROM:-0800
TZOFFSETTO:-0700
TZNAME:PDT
END:DAYLIGHT
END:VTIMEZONE
END:VCALENDAR