BEGIN:VCALENDAR
VERSION:2.0
PRODID:-//wp-events-plugin.com//7.2.3.1//EN
TZID:America/Los_Angeles
X-WR-TIMEZONE:America/Los_Angeles
BEGIN:VEVENT
UID:65@ilsca.com
DTSTART;TZID=America/Los_Angeles:20260117T140000
DTEND;TZID=America/Los_Angeles:20260502T150000
DTSTAMP:20260205T043413Z
URL:https://ilsca.com/events/american-sign-language-2-asl-ages-6-adult-sat
 -2/
SUMMARY:ASL Conversation – Family Class\, ages 6 - adult\, Sat
DESCRIPTION:Ages: 6+ (children and adults learn together)\nLanguage Level: 
 For families who have completed a beginner ASL course or have equivalent e
 xperience\nDescription:This class is the natural next step for families re
 ady to use ASL more confidently together. Through real-life conversation p
 ractice\, children and adults strengthen fluency\, expand vocabulary\, and
  learn to respond instinctively in ASL. The focus is on clear expression\,
  connection\, and feeling comfortable signing with each other and in every
 day situations—at home\, in the community\, and beyond.\nNo class on Feb
  14 &amp\; Mar 28\n
ATTACH;FMTTYPE=image/jpeg:https://ilsca.com/wp-content/uploads/2025/08/ASL
 -class.webp
CATEGORIES:American Sign Language
LOCATION:Pitzer College\, 1050 North Mills ave\, Claremont\, California\, 9
 1711\, United States
X-APPLE-STRUCTURED-LOCATION;VALUE=URI;X-ADDRESS=1050 North Mills ave\, Clar
 emont\, California\, 91711\, United States;X-APPLE-RADIUS=100;X-TITLE=Pitz
 er College:geo:0,0
END:VEVENT
BEGIN:VTIMEZONE
TZID:America/Los_Angeles
X-LIC-LOCATION:America/Los_Angeles
BEGIN:STANDARD
DTSTART:20251102T010000
TZOFFSETFROM:-0700
TZOFFSETTO:-0800
TZNAME:PST
END:STANDARD
BEGIN:DAYLIGHT
DTSTART:20260308T030000
TZOFFSETFROM:-0800
TZOFFSETTO:-0700
TZNAME:PDT
END:DAYLIGHT
END:VTIMEZONE
END:VCALENDAR