BEGIN:VCALENDAR
VERSION:2.0
PRODID:-//wp-events-plugin.com//7.2.3.1//EN
TZID:America/Los_Angeles
X-WR-TIMEZONE:America/Los_Angeles
BEGIN:VEVENT
UID:64@ilsca.com
DTSTART;TZID=America/Los_Angeles:20260613T130000
DTEND;TZID=America/Los_Angeles:20260801T140000
DTSTAMP:20260205T174039Z
URL:https://ilsca.com/events/american-sign-language-beginners-asl-ages-6-a
 dults-2/
SUMMARY:Beginner ASL – Family Class (ages 6 - adults)\, Sat
DESCRIPTION:Class information\nLanguage Level: Beginner – no prior experi
 ence required\nDescription:This family class is designed to help children 
 and adults feel comfortable learning American Sign Language together. In a
  warm\, supportive environment\, families learn basic signs\, finger-spell
 ing\, and simple sentences while building confidence communicating as a gr
 oup. The focus is on connection\, participation\, and shared success—so 
 everyone feels included and excited to keep signing at home and in daily l
 ife.\nNo classes July 4.\nAgreement: By registering\, you agree to the ter
 ms outlined in our policies.  Student Agreement and Refund Policy.
ATTACH;FMTTYPE=image/jpeg:https://ilsca.com/wp-content/uploads/2025/08/ASL
 -class.webp
CATEGORIES:American Sign Language
LOCATION:Pitzer College\, 1050 North Mills ave\, Claremont\, California\, 9
 1711\, United States
X-APPLE-STRUCTURED-LOCATION;VALUE=URI;X-ADDRESS=1050 North Mills ave\, Clar
 emont\, California\, 91711\, United States;X-APPLE-RADIUS=100;X-TITLE=Pitz
 er College:geo:0,0
END:VEVENT
BEGIN:VTIMEZONE
TZID:America/Los_Angeles
X-LIC-LOCATION:America/Los_Angeles
BEGIN:DAYLIGHT
DTSTART:20260308T030000
TZOFFSETFROM:-0800
TZOFFSETTO:-0700
TZNAME:PDT
END:DAYLIGHT
END:VTIMEZONE
END:VCALENDAR