BEGIN:VCALENDAR
VERSION:2.0
PRODID:-//wp-events-plugin.com//7.2.3.1//EN
TZID:America/Los_Angeles
X-WR-TIMEZONE:America/Los_Angeles
BEGIN:VEVENT
UID:118@ilsca.com
DTSTART;TZID=America/Los_Angeles:20260117T130000
DTEND;TZID=America/Los_Angeles:20260502T140000
DTSTAMP:20260205T040242Z
URL:https://ilsca.com/events/american-sign-language-beginners-asl-ages-6-a
 dults-3/
SUMMARY:American Sign Language Beginners (ASL)\, ages 6 - adults
DESCRIPTION:ASL Beginner (Ages 6–Adult)\nLearn the basics of American Sig
 n Language in a fun\, supportive environment. Build essential signs\, prac
 tice simple conversations\, and gain confidence communicating in ASL while
  exploring Deaf culture. No experience needed.\nNo classes Feb 14 &amp\; M
 ar 28\nAgreement: By registering\, you agree to the terms outlined in our 
 policies.  Student Agreement and Refund Policy.
ATTACH;FMTTYPE=image/jpeg:https://ilsca.com/wp-content/uploads/2025/08/ASL
 -class.webp
CATEGORIES:American Sign Language
LOCATION:Pitzer College\, 1050 North Mills ave\, Claremont\, California\, 9
 1711\, United States
X-APPLE-STRUCTURED-LOCATION;VALUE=URI;X-ADDRESS=1050 North Mills ave\, Clar
 emont\, California\, 91711\, United States;X-APPLE-RADIUS=100;X-TITLE=Pitz
 er College:geo:0,0
END:VEVENT
BEGIN:VTIMEZONE
TZID:America/Los_Angeles
X-LIC-LOCATION:America/Los_Angeles
BEGIN:STANDARD
DTSTART:20251102T010000
TZOFFSETFROM:-0700
TZOFFSETTO:-0800
TZNAME:PST
END:STANDARD
BEGIN:DAYLIGHT
DTSTART:20260308T030000
TZOFFSETFROM:-0800
TZOFFSETTO:-0700
TZNAME:PDT
END:DAYLIGHT
END:VTIMEZONE
END:VCALENDAR