BEGIN:VCALENDAR
VERSION:2.0
PRODID:-//wp-events-plugin.com//7.2.3.1//EN
TZID:America/Los_Angeles
X-WR-TIMEZONE:America/Los_Angeles
BEGIN:VEVENT
UID:67@ilsca.com
DTSTART;TZID=America/Los_Angeles:20260117T100000
DTEND;TZID=America/Los_Angeles:20260502T110000
DTSTAMP:20251205T041144Z
URL:https://ilsca.com/events/chinese-beginner-adults-sat/
SUMMARY:Chinese Beginner Adults\, Sat
DESCRIPTION:Class Information\nAges: For adults 18 years and older.\nLangua
 ge Level: Designed for adults with zero to little Chinese knowledge.\nDesc
 ription: This class is designed for adult learners to develop basic Chines
 e skills in a supportive and interactive environment. Through conversation
  practice\, cultural activities\, and practical exercises\, students will 
 build confidence and foundational language abilities.\nNo Class: Please no
 te\, this class will not meet on February 14 and March 28\nBy registering\
 , you agree to the terms outlined in our Student Agreement and Refund Poli
 cy.
ATTACH;FMTTYPE=image/jpeg:https://ilsca.com/wp-content/uploads/2025/08/Chi
 nese-language-class.webp
CATEGORIES:Chinese Mandarin
LOCATION:Pitzer College\, 1050 North Mills ave\, Claremont\, California\, 9
 1711\, United States
X-APPLE-STRUCTURED-LOCATION;VALUE=URI;X-ADDRESS=1050 North Mills ave\, Clar
 emont\, California\, 91711\, United States;X-APPLE-RADIUS=100;X-TITLE=Pitz
 er College:geo:0,0
END:VEVENT
BEGIN:VTIMEZONE
TZID:America/Los_Angeles
X-LIC-LOCATION:America/Los_Angeles
BEGIN:STANDARD
DTSTART:20251102T010000
TZOFFSETFROM:-0700
TZOFFSETTO:-0800
TZNAME:PST
END:STANDARD
BEGIN:DAYLIGHT
DTSTART:20260308T030000
TZOFFSETFROM:-0800
TZOFFSETTO:-0700
TZNAME:PDT
END:DAYLIGHT
END:VTIMEZONE
END:VCALENDAR