BEGIN:VCALENDAR
VERSION:2.0
PRODID:-//wp-events-plugin.com//7.2.3.1//EN
TZID:America/Los_Angeles
X-WR-TIMEZONE:America/Los_Angeles
BEGIN:VEVENT
UID:66@ilsca.com
DTSTART;TZID=America/Los_Angeles:20260117T090000
DTEND;TZID=America/Los_Angeles:20260502T100000
DTSTAMP:20251204T214004Z
URL:https://ilsca.com/events/chinese-kids-ages-5-12-sat/
SUMMARY:Chinese Kids\, ages- 5-12\, Sat
DESCRIPTION:Class Information\nAges: For children 5 to 12 years old.\nLangu
 age Level: Designed for children with zero to little Chinese knowledge.\nD
 escription: This is a drop-off class where children participate independen
 tly. Through engaging songs\, games\, and hands-on activities\, young lear
 ners are introduced to Chinese in a fun\, nurturing environment.\nNo Class
 : Please note\, this class will not meet on February 14 and March 28\nBy r
 egistering\, you agree to the terms outlined in our Student Agreement and 
 Refund Policy.
ATTACH;FMTTYPE=image/jpeg:https://ilsca.com/wp-content/uploads/2025/08/Chi
 nese-language-class.webp
CATEGORIES:Chinese Mandarin
LOCATION:Pitzer College\, 1050 North Mills ave\, Claremont\, California\, 9
 1711\, United States
X-APPLE-STRUCTURED-LOCATION;VALUE=URI;X-ADDRESS=1050 North Mills ave\, Clar
 emont\, California\, 91711\, United States;X-APPLE-RADIUS=100;X-TITLE=Pitz
 er College:geo:0,0
END:VEVENT
BEGIN:VTIMEZONE
TZID:America/Los_Angeles
X-LIC-LOCATION:America/Los_Angeles
BEGIN:STANDARD
DTSTART:20251102T010000
TZOFFSETFROM:-0700
TZOFFSETTO:-0800
TZNAME:PST
END:STANDARD
BEGIN:DAYLIGHT
DTSTART:20260308T030000
TZOFFSETFROM:-0800
TZOFFSETTO:-0700
TZNAME:PDT
END:DAYLIGHT
END:VTIMEZONE
END:VCALENDAR