BEGIN:VCALENDAR
VERSION:2.0
PRODID:-//wp-events-plugin.com//7.2.3.1//EN
TZID:America/Los_Angeles
X-WR-TIMEZONE:America/Los_Angeles
BEGIN:VEVENT
UID:162@ilsca.com
DTSTART;TZID=America/Los_Angeles:20260613T100000
DTEND;TZID=America/Los_Angeles:20260801T110000
DTSTAMP:20260418T022415Z
URL:https://ilsca.com/events/chinese-mandarin-for-travel-business-for-adul
 ts-beginner-sat/
SUMMARY:Chinese Mandarin for Travel & Business for Adults (Beginner)\, Sat
DESCRIPTION:Chinese Mandarin – Adults (Beginner | Travel &amp\; Business)
 \nAges: Adults 18+Level: No prior Mandarin experience required\nDescriptio
 n:Whether you’re preparing for travel\, business\, or personal growth\, 
 this class helps you begin speaking Mandarin with clarity and confidence f
 rom the start.\nYou’ll practice real-life conversations used in travel a
 nd professional settings while gaining cultural insight that helps you com
 municate respectfully and effectively. From greetings and introductions to
  workplace exchanges and everyday interactions\, the focus is on language 
 you can actually use.\nThrough guided conversation\, interactive activitie
 s\, and practical listening practice\, you’ll build a strong foundation 
 in Mandarin without feeling overwhelmed by heavy textbook study. The goal 
 is steady progress\, natural communication\, and the confidence to speak w
 hen it matters.\nNo class on July 4.\nBy registering\, you agree to the te
 rms outlined in our Student Agreement and Refund Policy.
ATTACH;FMTTYPE=image/jpeg:https://ilsca.com/wp-content/uploads/2025/08/Chi
 nese-language-class.webp
CATEGORIES:Chinese Mandarin
LOCATION:Pitzer College\, 1050 North Mills ave\, Claremont\, California\, 9
 1711\, United States
X-APPLE-STRUCTURED-LOCATION;VALUE=URI;X-ADDRESS=1050 North Mills ave\, Clar
 emont\, California\, 91711\, United States;X-APPLE-RADIUS=100;X-TITLE=Pitz
 er College:geo:0,0
END:VEVENT
BEGIN:VTIMEZONE
TZID:America/Los_Angeles
X-LIC-LOCATION:America/Los_Angeles
BEGIN:DAYLIGHT
DTSTART:20260308T030000
TZOFFSETFROM:-0800
TZOFFSETTO:-0700
TZNAME:PDT
END:DAYLIGHT
END:VTIMEZONE
END:VCALENDAR