BEGIN:VCALENDAR
VERSION:2.0
PRODID:-//wp-events-plugin.com//7.2.3.1//EN
TZID:America/Los_Angeles
X-WR-TIMEZONE:America/Los_Angeles
BEGIN:VEVENT
UID:120@ilsca.com
DTSTART;TZID=America/Los_Angeles:20260613T090000
DTEND;TZID=America/Los_Angeles:20260801T100000
DTSTAMP:20260205T173810Z
URL:https://ilsca.com/events/chinese-mandarin-kids-ages-5-12-sat/
SUMMARY:Chinese Mandarin for Kids (Ages- 5-12)\, Sat
DESCRIPTION:Class Information\nAges: Children ages 5–12Language Level: No
  prior Chinese experience required\nDescription:This drop-off class gives 
 children a joyful and confidence-building introduction to the Chinese lang
 uage in a warm\, nurturing environment. Students participate independently
  while instructors provide clear guidance\, encouragement\, and support.\n
 Through songs\, games\, movement\, and hands-on activities\, children lear
 n naturally while staying engaged and having fun. The focus is on helping 
 students feel comfortable\, successful\, and excited to participate—so l
 anguage learning feels positive and motivating from the very first class.\
 nChildren are supported at every step and encouraged to participate at the
 ir own pace.\nNo Class Dates:Please note: this class will not meet on July
  4.\nBy registering\, you agree to the terms outlined in our Student Agree
 ment and Refund Policy.
ATTACH;FMTTYPE=image/jpeg:https://ilsca.com/wp-content/uploads/2025/08/Chi
 nese-language-class.webp
CATEGORIES:Chinese Mandarin
LOCATION:Pitzer College\, 1050 North Mills ave\, Claremont\, California\, 9
 1711\, United States
X-APPLE-STRUCTURED-LOCATION;VALUE=URI;X-ADDRESS=1050 North Mills ave\, Clar
 emont\, California\, 91711\, United States;X-APPLE-RADIUS=100;X-TITLE=Pitz
 er College:geo:0,0
END:VEVENT
BEGIN:VTIMEZONE
TZID:America/Los_Angeles
X-LIC-LOCATION:America/Los_Angeles
BEGIN:DAYLIGHT
DTSTART:20260308T030000
TZOFFSETFROM:-0800
TZOFFSETTO:-0700
TZNAME:PDT
END:DAYLIGHT
END:VTIMEZONE
END:VCALENDAR