BEGIN:VCALENDAR
VERSION:2.0
PRODID:-//wp-events-plugin.com//7.2.3.1//EN
TZID:America/Los_Angeles
X-WR-TIMEZONE:America/Los_Angeles
BEGIN:VEVENT
UID:122@ilsca.com
DTSTART;TZID=America/Los_Angeles:20260613T080000
DTEND;TZID=America/Los_Angeles:20260801T090000
DTSTAMP:20260205T172448Z
URL:https://ilsca.com/events/english-esl-for-adults-beginner-sat/
SUMMARY:English (ESL) for Adults (Beginner)\, Sat
DESCRIPTION:English (ESL) for Adults (Beginner)\nAges: Adults 18+Language L
 evel: No prior English experience required\nDescription:This class offers 
 adult learners a welcoming\, confidence-building introduction to English i
 n a supportive and interactive environment. Lessons focus on practical con
 versation and everyday communication\, helping students feel comfortable u
 sing English from the very beginning.\nThrough guided conversation practic
 e\, cultural context\, and hands-on activities\, students build a strong f
 oundation in English while gaining confidence step by step. The emphasis i
 s on clear communication\, steady progress\, and real-world use—making t
 his class ideal for adults who want to speak and understand English with g
 reater ease.\nNo Class Dates:Please note: this class will not meet on July
  4\nBy registering\, you agree to the terms outlined in our Student Agree
 ment and Refund Policy.
ATTACH;FMTTYPE=image/jpeg:https://ilsca.com/wp-content/uploads/2025/08/Eng
 lishlanguage-class.webp
CATEGORIES:English
LOCATION:Pitzer College\, 1050 North Mills ave\, Claremont\, California\, 9
 1711\, United States
X-APPLE-STRUCTURED-LOCATION;VALUE=URI;X-ADDRESS=1050 North Mills ave\, Clar
 emont\, California\, 91711\, United States;X-APPLE-RADIUS=100;X-TITLE=Pitz
 er College:geo:0,0
END:VEVENT
BEGIN:VTIMEZONE
TZID:America/Los_Angeles
X-LIC-LOCATION:America/Los_Angeles
BEGIN:DAYLIGHT
DTSTART:20260308T030000
TZOFFSETFROM:-0800
TZOFFSETTO:-0700
TZNAME:PDT
END:DAYLIGHT
END:VTIMEZONE
END:VCALENDAR