BEGIN:VCALENDAR
VERSION:2.0
PRODID:-//wp-events-plugin.com//7.2.3.1//EN
TZID:America/Los_Angeles
X-WR-TIMEZONE:America/Los_Angeles
BEGIN:VEVENT
UID:125@ilsca.com
DTSTART;TZID=America/Los_Angeles:20260613T130000
DTEND;TZID=America/Los_Angeles:20260801T140000
DTSTAMP:20260207T033015Z
URL:https://ilsca.com/events/french-conversation-for-adults-sat/
SUMMARY:French Conversation for Adults\, Sat
DESCRIPTION:Class Information\nAges: Adults 18+Language Level: For adults w
 ho have completed Beginner French or have equivalent experience\nDescripti
 on:This class is the natural continuation of our Beginner French course an
 d is designed for adults who are ready to use French more confidently in r
 eal-life situations. The focus is on speaking\, listening\, and expressing
  ideas clearly through guided conversation practice.\nStudents build fluen
 cy by practicing everyday conversations\, expanding vocabulary\, and stren
 gthening grammar in context—so learning feels practical and approachable
 . The supportive\, interactive environment encourages steady progress and 
 helps students feel comfortable thinking and responding in French with gre
 ater ease.\nThis class is ideal for adults who want to move beyond the bas
 ics and gain confidence using French in everyday and social situations.\nN
 o Class Dates:Please note: this class will not meet on July 4.\nBy registe
 ring\, you agree to the terms outlined in our Student Agreement and Refund
  Policy.\n&nbsp\;
ATTACH;FMTTYPE=image/jpeg:https://ilsca.com/wp-content/uploads/2025/08/Fre
 nch.webp
CATEGORIES:French
LOCATION:Pitzer College\, 1050 North Mills ave\, Claremont\, California\, 9
 1711\, United States
X-APPLE-STRUCTURED-LOCATION;VALUE=URI;X-ADDRESS=1050 North Mills ave\, Clar
 emont\, California\, 91711\, United States;X-APPLE-RADIUS=100;X-TITLE=Pitz
 er College:geo:0,0
END:VEVENT
BEGIN:VTIMEZONE
TZID:America/Los_Angeles
X-LIC-LOCATION:America/Los_Angeles
BEGIN:DAYLIGHT
DTSTART:20260308T030000
TZOFFSETFROM:-0800
TZOFFSETTO:-0700
TZNAME:PDT
END:DAYLIGHT
END:VTIMEZONE
END:VCALENDAR