BEGIN:VCALENDAR
VERSION:2.0
PRODID:-//wp-events-plugin.com//7.2.3.1//EN
TZID:America/Los_Angeles
X-WR-TIMEZONE:America/Los_Angeles
BEGIN:VEVENT
UID:123@ilsca.com
DTSTART;TZID=America/Los_Angeles:20260613T110000
DTEND;TZID=America/Los_Angeles:20260801T120000
DTSTAMP:20260205T173649Z
URL:https://ilsca.com/events/french-kids-ages-5-12-sat-2/
SUMMARY:French for Kids (Ages 5–12) – Sat
DESCRIPTION:Class information\nAges: Children ages 5–12\n Language Level:
  No prior Chinese experience required\n\nDescription:\n This drop-off clas
 s gives children a joyful and confidence-building introduction to the Fren
 ch language in a warm\, nurturing environment. Students participate indepe
 ndently while instructors provide clear guidance\, encouragement\, and sup
 port.\n\nThrough songs\, games\, movement\, and hands-on activities\, chil
 dren learn naturally while staying engaged and having fun. The focus is on
  helping students feel comfortable\, successful\, and excited to participa
 te—so language learning feels positive and motivating from the very firs
 t class.\n\nChildren are supported at every step and encouraged to partici
 pate at their own pace.\n\nNo Class Dates:\n Please note: this class will 
 not meet on July 4\nBy registering\, you agree to the terms outlined in ou
 r Student Agreement and Refund Policy.\n
ATTACH;FMTTYPE=image/jpeg:https://ilsca.com/wp-content/uploads/2025/08/Fre
 nch.webp
CATEGORIES:French
LOCATION:Pitzer College\, 1050 North Mills ave\, Claremont\, California\, 9
 1711\, United States
X-APPLE-STRUCTURED-LOCATION;VALUE=URI;X-ADDRESS=1050 North Mills ave\, Clar
 emont\, California\, 91711\, United States;X-APPLE-RADIUS=100;X-TITLE=Pitz
 er College:geo:0,0
END:VEVENT
BEGIN:VTIMEZONE
TZID:America/Los_Angeles
X-LIC-LOCATION:America/Los_Angeles
BEGIN:DAYLIGHT
DTSTART:20260308T030000
TZOFFSETFROM:-0800
TZOFFSETTO:-0700
TZNAME:PDT
END:DAYLIGHT
END:VTIMEZONE
END:VCALENDAR