BEGIN:VCALENDAR
VERSION:2.0
PRODID:-//wp-events-plugin.com//7.2.3.1//EN
TZID:America/Los_Angeles
X-WR-TIMEZONE:America/Los_Angeles
BEGIN:VEVENT
UID:111@ilsca.com
DTSTART;TZID=America/Los_Angeles:20260117T120000
DTEND;TZID=America/Los_Angeles:20260502T130000
DTSTAMP:20260207T034119Z
URL:https://ilsca.com/events/german-adults-sat/
SUMMARY:German Adults (Beginner) - Sat
DESCRIPTION:Class Information\nAges: For adults 18 years and older.\nLangua
 ge Level: Designed for adults with zero to little German knowledge.\nDescr
 iption: This class is designed for adult learners to develop basic German 
 skills in a supportive and interactive environment. Through conversation p
 ractice\, cultural activities\, and practical exercises\, students will bu
 ild confidence and foundational language abilities.\nNo Class: Please note
 \, this class will not meet on Feb 14 &amp\; March 28\nBy registering\, yo
 u agree to the terms outlined in our Student Agreement and Refund Policy.\
 n&nbsp\;
CATEGORIES:German
LOCATION:Pitzer College\, 1050 North Mills ave\, Claremont\, California\, 9
 1711\, United States
X-APPLE-STRUCTURED-LOCATION;VALUE=URI;X-ADDRESS=1050 North Mills ave\, Clar
 emont\, California\, 91711\, United States;X-APPLE-RADIUS=100;X-TITLE=Pitz
 er College:geo:0,0
END:VEVENT
BEGIN:VTIMEZONE
TZID:America/Los_Angeles
X-LIC-LOCATION:America/Los_Angeles
BEGIN:STANDARD
DTSTART:20251102T010000
TZOFFSETFROM:-0700
TZOFFSETTO:-0800
TZNAME:PST
END:STANDARD
BEGIN:DAYLIGHT
DTSTART:20260308T030000
TZOFFSETFROM:-0800
TZOFFSETTO:-0700
TZNAME:PDT
END:DAYLIGHT
END:VTIMEZONE
END:VCALENDAR