BEGIN:VCALENDAR
VERSION:2.0
PRODID:-//wp-events-plugin.com//7.2.3.1//EN
TZID:America/Los_Angeles
X-WR-TIMEZONE:America/Los_Angeles
BEGIN:VEVENT
UID:126@ilsca.com
DTSTART;TZID=America/Los_Angeles:20260613T081500
DTEND;TZID=America/Los_Angeles:20260801T090000
DTSTAMP:20260206T181623Z
URL:https://ilsca.com/events/german-for-kids-ages-5-12-sat/
SUMMARY:German for Kids (Ages 5-12)\, Sat
DESCRIPTION:Class Information\nAges: Children ages 5–12\nLanguage Level: 
 No prior Language experience required\n\nDescription:\nThis drop-off class
  gives children a joyful and confidence-building introduction to the langu
 age in a warm\, nurturing environment. Students participate independently 
 while instructors provide clear guidance\, encouragement\, and support.\n\
 nThrough songs\, games\, movement\, and hands-on activities\, children lea
 rn naturally while staying engaged and having fun. The focus is on helping
  students feel comfortable\, successful\, and excited to participate—so 
 language learning feels positive and motivating from the very first class.
 \n\nChildren are supported at every step and encouraged to participate at 
 their own pace.\n\nNo Class: Please note\, this class will not meet on Jul
 y 4.\n\nBy registering\, you agree to the terms outlined in our Student Ag
 reement and Refund Policy.\n\n&nbsp\;
CATEGORIES:German
LOCATION:Pitzer College\, 1050 North Mills ave\, Claremont\, California\, 9
 1711\, United States
X-APPLE-STRUCTURED-LOCATION;VALUE=URI;X-ADDRESS=1050 North Mills ave\, Clar
 emont\, California\, 91711\, United States;X-APPLE-RADIUS=100;X-TITLE=Pitz
 er College:geo:0,0
END:VEVENT
BEGIN:VTIMEZONE
TZID:America/Los_Angeles
X-LIC-LOCATION:America/Los_Angeles
BEGIN:DAYLIGHT
DTSTART:20260308T030000
TZOFFSETFROM:-0800
TZOFFSETTO:-0700
TZNAME:PDT
END:DAYLIGHT
END:VTIMEZONE
END:VCALENDAR