BEGIN:VCALENDAR
VERSION:2.0
PRODID:-//wp-events-plugin.com//7.2.3.1//EN
TZID:America/Los_Angeles
X-WR-TIMEZONE:America/Los_Angeles
BEGIN:VEVENT
UID:73@ilsca.com
DTSTART;TZID=America/Los_Angeles:20260117T081500
DTEND;TZID=America/Los_Angeles:20260502T090000
DTSTAMP:20251204T213803Z
URL:https://ilsca.com/events/german-kids-sat/
SUMMARY:German Kids\, Sat
DESCRIPTION:Class Information\nAges: For kids 5 - 12 years old.\nLanguage L
 evel: Designed for adults with zero to little German knowledge.\nDescripti
 on: This class is designed for young learners to develop basic German skil
 ls in a supportive and interactive environment. Through conversation pract
 ice\, cultural activities\, and practical exercises\, students will build 
 confidence and foundational language abilities.\nNo Class: Please note\, t
 his class will not meet on Feb 14 &amp\; Mar 28\nBy registering\, you agre
 e to the terms outlined in our Student Agreement and Refund Policy.\n&nbsp
 \;
CATEGORIES:German
LOCATION:Pitzer College\, 1050 North Mills ave\, Claremont\, California\, 9
 1711\, United States
X-APPLE-STRUCTURED-LOCATION;VALUE=URI;X-ADDRESS=1050 North Mills ave\, Clar
 emont\, California\, 91711\, United States;X-APPLE-RADIUS=100;X-TITLE=Pitz
 er College:geo:0,0
END:VEVENT
BEGIN:VTIMEZONE
TZID:America/Los_Angeles
X-LIC-LOCATION:America/Los_Angeles
BEGIN:STANDARD
DTSTART:20251102T010000
TZOFFSETFROM:-0700
TZOFFSETTO:-0800
TZNAME:PST
END:STANDARD
BEGIN:DAYLIGHT
DTSTART:20260308T030000
TZOFFSETFROM:-0800
TZOFFSETTO:-0700
TZNAME:PDT
END:DAYLIGHT
END:VTIMEZONE
END:VCALENDAR