BEGIN:VCALENDAR
VERSION:2.0
PRODID:-//wp-events-plugin.com//7.2.3.1//EN
TZID:America/Los_Angeles
X-WR-TIMEZONE:America/Los_Angeles
BEGIN:VEVENT
UID:75@ilsca.com
DTSTART;TZID=America/Los_Angeles:20260117T090000
DTEND;TZID=America/Los_Angeles:20260502T100000
DTSTAMP:20251204T214156Z
URL:https://ilsca.com/events/italian-conversation-adults-sat-2/
SUMMARY:Italian Conversation Adults\, Sat
DESCRIPTION:Class Information\nAges: For adults 18 years and older.\nLangua
 ge Level: This is an advanced class designed for adults who have completed
  beginner Italian or have equivalent experience.\nDescription: In this cla
 ss\, you will focus on speaking and communicating in Italian. You will pra
 ctice real-life conversations\, improve your vocabulary and grammar\, and 
 learn how to express yourself clearly. This class helps you gain confidenc
 e in using Italian in everyday situations.\nNo Class: Please note\, this c
 lass will not meet on February 14 and March 28\nBy registering\, you agree
  to the terms outlined in our Student Agreement and Refund Policy.\n&nbsp\
 ;
ATTACH;FMTTYPE=image/jpeg:https://ilsca.com/wp-content/uploads/2025/08/Ita
 lian-language-class.webp
CATEGORIES:Italian
LOCATION:Pitzer College\, 1050 North Mills ave\, Claremont\, California\, 9
 1711\, United States
X-APPLE-STRUCTURED-LOCATION;VALUE=URI;X-ADDRESS=1050 North Mills ave\, Clar
 emont\, California\, 91711\, United States;X-APPLE-RADIUS=100;X-TITLE=Pitz
 er College:geo:0,0
END:VEVENT
BEGIN:VTIMEZONE
TZID:America/Los_Angeles
X-LIC-LOCATION:America/Los_Angeles
BEGIN:STANDARD
DTSTART:20251102T010000
TZOFFSETFROM:-0700
TZOFFSETTO:-0800
TZNAME:PST
END:STANDARD
BEGIN:DAYLIGHT
DTSTART:20260308T030000
TZOFFSETFROM:-0800
TZOFFSETTO:-0700
TZNAME:PDT
END:DAYLIGHT
END:VTIMEZONE
END:VCALENDAR