BEGIN:VCALENDAR
VERSION:2.0
PRODID:-//wp-events-plugin.com//7.2.3.1//EN
TZID:America/Los_Angeles
X-WR-TIMEZONE:America/Los_Angeles
BEGIN:VEVENT
UID:130@ilsca.com
DTSTART;TZID=America/Los_Angeles:20260613T090000
DTEND;TZID=America/Los_Angeles:20260801T100000
DTSTAMP:20260206T185058Z
URL:https://ilsca.com/events/italian-conversation-for-adults-sat/
SUMMARY:Italian Conversation for Adults\, Sat
DESCRIPTION:Class Information\nAges: Adults 18+\nLanguage Level: For adults
  who have completed Beginner Level or have equivalent experience\n\nDescri
 ption:\nThis class is the natural continuation of our Beginner level cours
 e and is designed for adults who are ready to use the language more confid
 ently in real-life situations. The focus is on speaking\, listening\, and 
 expressing ideas clearly through guided conversation practice.\n\nStudents
  build fluency by practicing everyday conversations\, expanding vocabulary
 \, and strengthening grammar in context—so learning feels practical and 
 approachable. The supportive\, interactive environment encourages steady p
 rogress and helps students feel comfortable thinking and responding in the
  language with greater ease.\n\nThis class is ideal for adults who want to
  move beyond the basics and gain confidence using the language in everyday
  and social situations.\n\nNo Class Dates:\nPlease note: this class will n
 ot meet on July 4.\nBy registering\, you agree to the terms outlined in ou
 r Student Agreement and Refund Policy.\n&nbsp\;
ATTACH;FMTTYPE=image/jpeg:https://ilsca.com/wp-content/uploads/2025/08/Ita
 lian-language-class.webp
CATEGORIES:Italian
LOCATION:Pitzer College\, 1050 North Mills ave\, Claremont\, California\, 9
 1711\, United States
X-APPLE-STRUCTURED-LOCATION;VALUE=URI;X-ADDRESS=1050 North Mills ave\, Clar
 emont\, California\, 91711\, United States;X-APPLE-RADIUS=100;X-TITLE=Pitz
 er College:geo:0,0
END:VEVENT
BEGIN:VTIMEZONE
TZID:America/Los_Angeles
X-LIC-LOCATION:America/Los_Angeles
BEGIN:DAYLIGHT
DTSTART:20260308T030000
TZOFFSETFROM:-0800
TZOFFSETTO:-0700
TZNAME:PDT
END:DAYLIGHT
END:VTIMEZONE
END:VCALENDAR