BEGIN:VCALENDAR
VERSION:2.0
PRODID:-//wp-events-plugin.com//7.2.3.1//EN
TZID:America/Los_Angeles
X-WR-TIMEZONE:America/Los_Angeles
BEGIN:VEVENT
UID:129@ilsca.com
DTSTART;TZID=America/Los_Angeles:20260613T110000
DTEND;TZID=America/Los_Angeles:20260801T120000
DTSTAMP:20260206T184709Z
URL:https://ilsca.com/events/italian-for-adults-beginner/
SUMMARY:Italian for Adults (Beginner)
DESCRIPTION:Class Information\nAges: Adults 18+\nLanguage Level: No prior e
 xperience required\n\nDescription:\nThis class offers adult learners a wel
 coming\, confidence-building introduction to  the language in a supportiv
 e and interactive environment. Lessons focus on practical conversation and
  real-life language use\, helping students begin communicating comfortably
  from the start.\n\nThrough guided conversation practice\, cultural insigh
 ts\, and hands-on activities\, students build a strong foundation in the l
 anguage while gaining confidence step by step. The emphasis is on steady p
 rogress\, comfort\, and enjoyment—making this class ideal for adults lea
 rning at their own pace.\n\nNo Class: Please note\, this class will not me
 et on July 4.\nBy registering\, you agree to the terms outlined in our Stu
 dent Agreement and Refund Policy.\n&nbsp\;
ATTACH;FMTTYPE=image/jpeg:https://ilsca.com/wp-content/uploads/2025/08/Ita
 lian-language-class.webp
CATEGORIES:Italian
LOCATION:Pitzer College\, 1050 North Mills ave\, Claremont\, California\, 9
 1711\, United States
X-APPLE-STRUCTURED-LOCATION;VALUE=URI;X-ADDRESS=1050 North Mills ave\, Clar
 emont\, California\, 91711\, United States;X-APPLE-RADIUS=100;X-TITLE=Pitz
 er College:geo:0,0
END:VEVENT
BEGIN:VTIMEZONE
TZID:America/Los_Angeles
X-LIC-LOCATION:America/Los_Angeles
BEGIN:DAYLIGHT
DTSTART:20260308T030000
TZOFFSETFROM:-0800
TZOFFSETTO:-0700
TZNAME:PDT
END:DAYLIGHT
END:VTIMEZONE
END:VCALENDAR