BEGIN:VCALENDAR
VERSION:2.0
PRODID:-//wp-events-plugin.com//7.2.3.1//EN
TZID:America/Los_Angeles
X-WR-TIMEZONE:America/Los_Angeles
BEGIN:VEVENT
UID:78@ilsca.com
DTSTART;TZID=America/Los_Angeles:20260117T130000
DTEND;TZID=America/Los_Angeles:20260502T140000
DTSTAMP:20251205T042107Z
URL:https://ilsca.com/events/japanese-1-ages-12-adults-sat-2/
SUMMARY:Japanese 1 ages 12 - adults\, Sat
DESCRIPTION:Class Information\nAges: For 12 years and older.\nLanguage Leve
 l: Designed for students with zero to little Japanese knowledge.\nDescript
 ion: This class is designed for adult learners to develop basic Japanese s
 kills in a supportive and interactive environment. Through conversation pr
 actice\, cultural activities\, and practical exercises\, students will bui
 ld confidence and foundational language abilities.\nNo Class: Please note\
 , this class will not meet on Feb 14 &amp\; Mar 28\nBy registering\, you a
 gree to the terms outlined in our Student Agreement and Refund Policy.\n&n
 bsp\;
ATTACH;FMTTYPE=image/jpeg:https://ilsca.com/wp-content/uploads/2025/08/Jap
 anese-language-class.webp
CATEGORIES:Japanese
LOCATION:Pitzer College\, 1050 North Mills ave\, Claremont\, California\, 9
 1711\, United States
X-APPLE-STRUCTURED-LOCATION;VALUE=URI;X-ADDRESS=1050 North Mills ave\, Clar
 emont\, California\, 91711\, United States;X-APPLE-RADIUS=100;X-TITLE=Pitz
 er College:geo:0,0
END:VEVENT
BEGIN:VTIMEZONE
TZID:America/Los_Angeles
X-LIC-LOCATION:America/Los_Angeles
BEGIN:STANDARD
DTSTART:20251102T010000
TZOFFSETFROM:-0700
TZOFFSETTO:-0800
TZNAME:PST
END:STANDARD
BEGIN:DAYLIGHT
DTSTART:20260308T030000
TZOFFSETFROM:-0800
TZOFFSETTO:-0700
TZNAME:PDT
END:DAYLIGHT
END:VTIMEZONE
END:VCALENDAR