BEGIN:VCALENDAR
VERSION:2.0
PRODID:-//wp-events-plugin.com//7.2.3.1//EN
TZID:America/Los_Angeles
X-WR-TIMEZONE:America/Los_Angeles
BEGIN:VEVENT
UID:79@ilsca.com
DTSTART;TZID=America/Los_Angeles:20260117T140000
DTEND;TZID=America/Los_Angeles:20260502T150000
DTSTAMP:20251205T042331Z
URL:https://ilsca.com/events/japanese-2-ages-6-adults-sat-2/
SUMMARY:Japanese 2 ages 12 - adults\, Sat
DESCRIPTION:Class Information\nAges: For 12 years and older.\nLanguage Leve
 l: This is an advanced class designed for students who have completed begi
 nner Japanese or have equivalent experience.\nDescription: In this class\,
  you will focus on speaking and communicating in Japanese. You will practi
 ce real-life conversations\, improve your vocabulary and grammar\, and lea
 rn how to express yourself clearly. This class helps you gain confidence i
 n using Japanese in everyday situations.\nNo Class: Please note\, this cla
 ss will not meet on November 29\, 2025.\nBy registering\, you agree to the
  terms outlined in our Student Agreement and Refund Policy.\n&nbsp\;
ATTACH;FMTTYPE=image/jpeg:https://ilsca.com/wp-content/uploads/2025/08/Jap
 anese-language-class.webp
CATEGORIES:Japanese
LOCATION:Pitzer College\, 1050 North Mills ave\, Claremont\, California\, 9
 1711\, United States
X-APPLE-STRUCTURED-LOCATION;VALUE=URI;X-ADDRESS=1050 North Mills ave\, Clar
 emont\, California\, 91711\, United States;X-APPLE-RADIUS=100;X-TITLE=Pitz
 er College:geo:0,0
END:VEVENT
BEGIN:VTIMEZONE
TZID:America/Los_Angeles
X-LIC-LOCATION:America/Los_Angeles
BEGIN:STANDARD
DTSTART:20251102T010000
TZOFFSETFROM:-0700
TZOFFSETTO:-0800
TZNAME:PST
END:STANDARD
BEGIN:DAYLIGHT
DTSTART:20260308T030000
TZOFFSETFROM:-0800
TZOFFSETTO:-0700
TZNAME:PDT
END:DAYLIGHT
END:VTIMEZONE
END:VCALENDAR