BEGIN:VCALENDAR
VERSION:2.0
PRODID:-//wp-events-plugin.com//7.2.3.1//EN
TZID:America/Los_Angeles
X-WR-TIMEZONE:America/Los_Angeles
BEGIN:VEVENT
UID:132@ilsca.com
DTSTART;TZID=America/Los_Angeles:20260613T140000
DTEND;TZID=America/Los_Angeles:20260801T150000
DTSTAMP:20260206T190114Z
URL:https://ilsca.com/events/japanese-2-conversation-for-teens-adults-sat/
SUMMARY:Japanese 2 – Conversation for Teens & Adults\, Sat
DESCRIPTION:Class Information\nAges: 12+ (teens and adults learn together)L
 anguage Level: For students who have completed Beginner Japanese or have e
 quivalent experience\nDescription:This class is the natural continuation o
 f our Beginner Japanese course and is designed for students ready to use J
 apanese more confidently in real-life situations. The focus is on speaking
 \, listening\, and expressing ideas clearly through guided conversation pr
 actice.\nStudents expand vocabulary\, strengthen grammar in context\, and 
 build fluency by practicing everyday conversations in a supportive\, inter
 active environment. Lessons are paced to encourage steady progress and con
 fidence\, helping students feel comfortable thinking and responding in Jap
 anese with greater ease.\nThis class is ideal for teens and adults who wan
 t to move beyond the basics and communicate more naturally in Japanese.\nN
 o Class: Please note\, this class will not meet on July 4.\nBy registering
 \, you agree to the terms outlined in our Student Agreement and Refund Pol
 icy.\n&nbsp\;
ATTACH;FMTTYPE=image/jpeg:https://ilsca.com/wp-content/uploads/2025/08/Jap
 anese-language-class.webp
CATEGORIES:Japanese
LOCATION:Pitzer College\, 1050 North Mills ave\, Claremont\, California\, 9
 1711\, United States
X-APPLE-STRUCTURED-LOCATION;VALUE=URI;X-ADDRESS=1050 North Mills ave\, Clar
 emont\, California\, 91711\, United States;X-APPLE-RADIUS=100;X-TITLE=Pitz
 er College:geo:0,0
END:VEVENT
BEGIN:VTIMEZONE
TZID:America/Los_Angeles
X-LIC-LOCATION:America/Los_Angeles
BEGIN:DAYLIGHT
DTSTART:20260308T030000
TZOFFSETFROM:-0800
TZOFFSETTO:-0700
TZNAME:PDT
END:DAYLIGHT
END:VTIMEZONE
END:VCALENDAR