BEGIN:VCALENDAR
VERSION:2.0
PRODID:-//wp-events-plugin.com//7.2.3.1//EN
TZID:America/Los_Angeles
X-WR-TIMEZONE:America/Los_Angeles
BEGIN:VEVENT
UID:133@ilsca.com
DTSTART;TZID=America/Los_Angeles:20260613T150000
DTEND;TZID=America/Los_Angeles:20260801T160000
DTSTAMP:20260206T191246Z
URL:https://ilsca.com/events/japanese-3-conversation-for-teens-adults-sat/
SUMMARY:Japanese 3 – Conversation for Teens & Adults\, Sat
DESCRIPTION:Class Information\nAges: 12+ (teens and adults learn together)L
 anguage Level: For students who have completed Japanese 2 or have equivale
 nt experience\nDescription:This class continues to build on the skills dev
 eloped in Japanese 2 and is designed for students ready to communicate wit
 h greater confidence and ease. Lessons focus on expanding conversational a
 bility\, strengthening listening skills\, and expressing ideas more natura
 lly in Japanese.\nThrough guided conversation practice\, cultural context\
 , and practical language use\, students deepen vocabulary\, reinforce gram
 mar in context\, and develop smoother\, more confident communication. The 
 supportive\, interactive environment encourages steady progress while help
 ing students feel comfortable using Japanese in everyday and social situat
 ions.\nThis class is ideal for teens and adults who want to move beyond st
 ructured basics and grow toward more fluent\, natural communication.\nNo C
 lass: Please note\, this class will not meet on July 4.\nBy registering\, 
 you agree to the terms outlined in our Student Agreement and Refund Policy
 .\n&nbsp\;
ATTACH;FMTTYPE=image/jpeg:https://ilsca.com/wp-content/uploads/2025/08/Jap
 anese-language-class.webp
CATEGORIES:Japanese
LOCATION:Pitzer College\, 1050 North Mills ave\, Claremont\, California\, 9
 1711\, United States
X-APPLE-STRUCTURED-LOCATION;VALUE=URI;X-ADDRESS=1050 North Mills ave\, Clar
 emont\, California\, 91711\, United States;X-APPLE-RADIUS=100;X-TITLE=Pitz
 er College:geo:0,0
END:VEVENT
BEGIN:VTIMEZONE
TZID:America/Los_Angeles
X-LIC-LOCATION:America/Los_Angeles
BEGIN:DAYLIGHT
DTSTART:20260308T030000
TZOFFSETFROM:-0800
TZOFFSETTO:-0700
TZNAME:PDT
END:DAYLIGHT
END:VTIMEZONE
END:VCALENDAR