BEGIN:VCALENDAR
VERSION:2.0
PRODID:-//wp-events-plugin.com//7.2.3.1//EN
TZID:America/Los_Angeles
X-WR-TIMEZONE:America/Los_Angeles
BEGIN:VEVENT
UID:131@ilsca.com
DTSTART;TZID=America/Los_Angeles:20260613T130000
DTEND;TZID=America/Los_Angeles:20260801T140000
DTSTAMP:20260206T185714Z
URL:https://ilsca.com/events/japanese-for-teens-adults-beginner-sat/
SUMMARY:Japanese for Teens & Adults (Beginner)\, Sat
DESCRIPTION:Class Information\nAges: 12+ (teens and adults learn together)L
 anguage Level: No prior Japanese experience required\nDescription:This cla
 ss offers a welcoming\, confidence-building introduction to Japanese for t
 eens and adults learning together in a supportive\, interactive environmen
 t. Students learn at a comfortable pace with clear guidance and encouragem
 ent\, making this class ideal for beginners of all ages.\nLessons focus on
  practical conversation\, cultural context\, and real-life language use. T
 hrough guided speaking practice\, hands-on activities\, and cultural explo
 ration\, students build a strong foundation in Japanese while gaining conf
 idence step by step. The emphasis is on communication\, connection\, and e
 njoyment—so learning feels approachable and motivating from the start.\n
 No Class: Please note\, this class will not meet on July 4\nBy registering
 \, you agree to the terms outlined in our Student Agreement and Refund Pol
 icy.\n&nbsp\;
ATTACH;FMTTYPE=image/jpeg:https://ilsca.com/wp-content/uploads/2025/08/Jap
 anese-language-class.webp
CATEGORIES:Japanese
LOCATION:Pitzer College\, 1050 North Mills ave\, Claremont\, California\, 9
 1711\, United States
X-APPLE-STRUCTURED-LOCATION;VALUE=URI;X-ADDRESS=1050 North Mills ave\, Clar
 emont\, California\, 91711\, United States;X-APPLE-RADIUS=100;X-TITLE=Pitz
 er College:geo:0,0
END:VEVENT
BEGIN:VTIMEZONE
TZID:America/Los_Angeles
X-LIC-LOCATION:America/Los_Angeles
BEGIN:DAYLIGHT
DTSTART:20260308T030000
TZOFFSETFROM:-0800
TZOFFSETTO:-0700
TZNAME:PDT
END:DAYLIGHT
END:VTIMEZONE
END:VCALENDAR