BEGIN:VCALENDAR
VERSION:2.0
PRODID:-//wp-events-plugin.com//7.2.3.1//EN
TZID:America/Los_Angeles
X-WR-TIMEZONE:America/Los_Angeles
BEGIN:VEVENT
UID:163@ilsca.com
DTSTART;TZID=America/Los_Angeles:20260613T130000
DTEND;TZID=America/Los_Angeles:20260801T140000
DTSTAMP:20260212T161123Z
URL:https://ilsca.com/events/japanese-for-teens-adults-beginner-travel-bus
 iness-sat/
SUMMARY:Japanese for Teens & Adults (Beginner) Travel Business\, Sat
DESCRIPTION:Japanese for Teen &amp\; Adults (Beginner)  Travel &amp\; Busi
 ness)\nClass information\nAges: 12+ (teens and adults learn together)Langu
 age Level: No prior Japanese experience required\nDescription:Whether you
 ’re preparing for travel\, business\, or personal growth\, this class he
 lps you begin speaking  Japanese with clarity and confidence from the sta
 rt.\nYou’ll practice real-life conversations used in travel and professi
 onal settings while gaining cultural insight that helps you communicate re
 spectfully and effectively. From greetings and introductions to workplace 
 exchanges and everyday interactions\, the focus is on language you can act
 ually use.\nThrough guided conversation\, interactive activities\, and pra
 ctical listening practice\, you’ll build a strong foundation in Japanese
  without feeling overwhelmed by heavy textbook study. The goal is steady p
 rogress\, natural communication\, and the confidence to speak when it matt
 ers.\nNo Class: Please note\, this class will not meet on July 4\nBy regis
 tering\, you agree to the terms outlined in our Student Agreement and Refu
 nd Policy.\n&nbsp\;
ATTACH;FMTTYPE=image/jpeg:https://ilsca.com/wp-content/uploads/2025/08/Jap
 anese-language-class.webp
CATEGORIES:Japanese
LOCATION:Pitzer College\, 1050 North Mills ave\, Claremont\, California\, 9
 1711\, United States
X-APPLE-STRUCTURED-LOCATION;VALUE=URI;X-ADDRESS=1050 North Mills ave\, Clar
 emont\, California\, 91711\, United States;X-APPLE-RADIUS=100;X-TITLE=Pitz
 er College:geo:0,0
END:VEVENT
BEGIN:VTIMEZONE
TZID:America/Los_Angeles
X-LIC-LOCATION:America/Los_Angeles
BEGIN:DAYLIGHT
DTSTART:20260308T030000
TZOFFSETFROM:-0800
TZOFFSETTO:-0700
TZNAME:PDT
END:DAYLIGHT
END:VTIMEZONE
END:VCALENDAR