BEGIN:VCALENDAR
VERSION:2.0
PRODID:-//wp-events-plugin.com//7.2.3.1//EN
TZID:America/Los_Angeles
X-WR-TIMEZONE:America/Los_Angeles
BEGIN:VEVENT
UID:158@ilsca.com
DTSTART;TZID=America/Los_Angeles:20260613T120000
DTEND;TZID=America/Los_Angeles:20260801T130000
DTSTAMP:20260207T034325Z
URL:https://ilsca.com/events/kids-spanish-2-ages-6-9-sat/
SUMMARY:Kids Spanish 2 (Ages  6-9) -  Sat
DESCRIPTION:Class Information\nAges: Children 6–9Language Level: For stud
 ents who have completed Beginner Spanish or have equivalent experience\nDe
 scription:This drop-off class is designed for children who already have so
 me experience with Spanish and are ready to continue building their skills
  in a supportive\, engaging environment. Students participate independentl
 y while instructors provide clear guidance and encouragement.\nThrough int
 eractive activities\, games\, movement\, and age-appropriate conversation 
 practice\, children expand vocabulary\, begin forming longer sentences\, a
 nd grow more confident using Spanish. The focus is on communication\, part
 icipation\, and comfort—helping students feel successful as they move be
 yond the basics.\nNo Class: Please note\, this class will not meet on July
  4.\nBy registering\, you agree to the terms outlined in our Student Agree
 ment and Refund Policy.
ATTACH;FMTTYPE=image/jpeg:https://ilsca.com/wp-content/uploads/2024/12/lea
 rn-Spanish.png
CATEGORIES:Spanish
LOCATION:Pitzer College\, 1050 North Mills ave\, Claremont\, California\, 9
 1711\, United States
X-APPLE-STRUCTURED-LOCATION;VALUE=URI;X-ADDRESS=1050 North Mills ave\, Clar
 emont\, California\, 91711\, United States;X-APPLE-RADIUS=100;X-TITLE=Pitz
 er College:geo:0,0
END:VEVENT
BEGIN:VTIMEZONE
TZID:America/Los_Angeles
X-LIC-LOCATION:America/Los_Angeles
BEGIN:DAYLIGHT
DTSTART:20260308T030000
TZOFFSETFROM:-0800
TZOFFSETTO:-0700
TZNAME:PDT
END:DAYLIGHT
END:VTIMEZONE
END:VCALENDAR