BEGIN:VCALENDAR
VERSION:2.0
PRODID:-//wp-events-plugin.com//7.2.3.1//EN
TZID:America/Los_Angeles
X-WR-TIMEZONE:America/Los_Angeles
BEGIN:VEVENT
UID:149@ilsca.com
DTSTART;TZID=America/Los_Angeles:20260613T100000
DTEND;TZID=America/Los_Angeles:20260801T110000
DTSTAMP:20260207T020853Z
URL:https://ilsca.com/events/kids-spanish-beginner-ages-10-15-sat/
SUMMARY:Kids Spanish Beginner  (Ages 10-15) - Sat
DESCRIPTION:Class Information\nAges: Children 10–15Language Level: Beginn
 er — no prior Spanish experience required\nDescription:This beginner cla
 ss is designed for older children and teens who are new to Spanish and rea
 dy to start learning in a supportive\, encouraging environment. Students p
 articipate independently in this drop-off class\, with instructors providi
 ng clear guidance and positive reinforcement.\nLessons focus on practical 
 communication through interactive activities\, games\, movement\, and age-
 appropriate challenges that keep students engaged and motivated. The empha
 sis is on building comfort\, confidence\, and early speaking skills—help
 ing students feel successful and excited to continue learning Spanish.\nNo
  Class: Please note\, this class will not meet on March 28July 4.\nBy regi
 stering\, you agree to the terms outlined in our Student Agreement and Ref
 und Policy.
ATTACH;FMTTYPE=image/jpeg:https://ilsca.com/wp-content/uploads/2024/12/lea
 rn-Spanish.png
CATEGORIES:Spanish
LOCATION:Pitzer College\, 1050 North Mills ave\, Claremont\, California\, 9
 1711\, United States
X-APPLE-STRUCTURED-LOCATION;VALUE=URI;X-ADDRESS=1050 North Mills ave\, Clar
 emont\, California\, 91711\, United States;X-APPLE-RADIUS=100;X-TITLE=Pitz
 er College:geo:0,0
END:VEVENT
BEGIN:VTIMEZONE
TZID:America/Los_Angeles
X-LIC-LOCATION:America/Los_Angeles
BEGIN:DAYLIGHT
DTSTART:20260308T030000
TZOFFSETFROM:-0800
TZOFFSETTO:-0700
TZNAME:PDT
END:DAYLIGHT
END:VTIMEZONE
END:VCALENDAR