BEGIN:VCALENDAR
VERSION:2.0
PRODID:-//wp-events-plugin.com//7.2.3.1//EN
TZID:America/Los_Angeles
X-WR-TIMEZONE:America/Los_Angeles
BEGIN:VEVENT
UID:141@ilsca.com
DTSTART;TZID=America/Los_Angeles:20260611T163000
DTEND;TZID=America/Los_Angeles:20260730T173000
DTSTAMP:20260207T013220Z
URL:https://ilsca.com/events/kids-spanish-beginner-ages-6-12-thu/
SUMMARY:Kids Spanish Beginner - (Ages 6-12)\, Thu
DESCRIPTION:Class Information\nAges: Children ages 5–12\nLanguage Level: 
 No prior Language experience required\n\nDescription:\nThis drop-off class
  gives children a joyful and confidence-building introduction to Spanish i
 n a warm\, nurturing environment. Students participate independently while
  instructors provide clear guidance\, encouragement\, and support.\n\nThro
 ugh songs\, games\, movement\, and hands-on activities\, children learn na
 turally while staying engaged and having fun. The focus is on helping stud
 ents feel comfortable\, successful\, and excited to participate—so langu
 age learning feels positive and motivating from the very first class.\n\nC
 hildren are supported at every step and encouraged to participate at their
  own pace.\nNo Class: Please note\, this class will not meet on July 2.\nB
 y registering\, you agree to the terms outlined in our Student Agreement a
 nd Refund Policy.
ATTACH;FMTTYPE=image/jpeg:https://ilsca.com/wp-content/uploads/2024/12/lea
 rn-Spanish.png
CATEGORIES:Spanish
LOCATION:Grace Lutheran\, 2108 N Euclid Ave\, Upland\, Ca\, 91784\, United 
 States
X-APPLE-STRUCTURED-LOCATION;VALUE=URI;X-ADDRESS=2108 N Euclid Ave\, Upland\
 , Ca\, 91784\, United States;X-APPLE-RADIUS=100;X-TITLE=Grace Lutheran:geo
 :0,0
END:VEVENT
BEGIN:VTIMEZONE
TZID:America/Los_Angeles
X-LIC-LOCATION:America/Los_Angeles
BEGIN:DAYLIGHT
DTSTART:20260308T030000
TZOFFSETFROM:-0800
TZOFFSETTO:-0700
TZNAME:PDT
END:DAYLIGHT
END:VTIMEZONE
END:VCALENDAR