BEGIN:VCALENDAR
VERSION:2.0
PRODID:-//wp-events-plugin.com//7.2.3.1//EN
TZID:America/Los_Angeles
X-WR-TIMEZONE:America/Los_Angeles
BEGIN:VEVENT
UID:151@ilsca.com
DTSTART;TZID=America/Los_Angeles:20260613T100000
DTEND;TZID=America/Los_Angeles:20260801T110000
DTSTAMP:20260207T021718Z
URL:https://ilsca.com/events/kids-spanish-beginner-ages-6-9-sat/
SUMMARY:Kids Spanish Beginner (Ages 6-9) - Sat
DESCRIPTION:Class Information\nAges: Children 6–9Language Level: Beginner
  — no prior Spanish experience required\nDescription:This beginner class
  gives children a joyful and confidence-building introduction to Spanish i
 n a warm\, nurturing environment. Children participate independently while
  instructors provide gentle guidance\, encouragement\, and structure.\nThr
 ough songs\, games\, movement\, and hands-on activities\, young learners a
 re naturally introduced to Spanish in a way that feels playful and engagin
 g. The focus is on comfort\, participation\, and early communication—hel
 ping children feel successful and excited to keep learning from the very f
 irst class.\nNo Class: Please note\, this class will not meet on July 4\nB
 y registering\, you agree to the terms outlined in our Student Agreement a
 nd Refund Policy.
ATTACH;FMTTYPE=image/jpeg:https://ilsca.com/wp-content/uploads/2024/12/lea
 rn-Spanish.png
CATEGORIES:Spanish
LOCATION:Pitzer College\, 1050 North Mills ave\, Claremont\, California\, 9
 1711\, United States
X-APPLE-STRUCTURED-LOCATION;VALUE=URI;X-ADDRESS=1050 North Mills ave\, Clar
 emont\, California\, 91711\, United States;X-APPLE-RADIUS=100;X-TITLE=Pitz
 er College:geo:0,0
END:VEVENT
BEGIN:VTIMEZONE
TZID:America/Los_Angeles
X-LIC-LOCATION:America/Los_Angeles
BEGIN:DAYLIGHT
DTSTART:20260308T030000
TZOFFSETFROM:-0800
TZOFFSETTO:-0700
TZNAME:PDT
END:DAYLIGHT
END:VTIMEZONE
END:VCALENDAR