BEGIN:VCALENDAR
VERSION:2.0
PRODID:-//wp-events-plugin.com//7.2.3.1//EN
TZID:America/Los_Angeles
X-WR-TIMEZONE:America/Los_Angeles
BEGIN:VEVENT
UID:150@ilsca.com
DTSTART;TZID=America/Los_Angeles:20260613T100000
DTEND;TZID=America/Los_Angeles:20260801T110000
DTSTAMP:20260207T021342Z
URL:https://ilsca.com/events/kids-spanish-conversation-2-ages-10-15-sat/
SUMMARY:Kids Spanish Conversation 2 (Ages 10-15) - Sat
DESCRIPTION:Class Information\nAges: Children 10–15Language Level: For st
 udents who have completed Beginner Spanish or have equivalent experience\n
 Description:This drop-off class is designed for children and teens who alr
 eady have basic Spanish exposure and are ready to build confidence using t
 he language in a more active way. Students continue developing speaking an
 d listening skills through age-appropriate\, interactive lessons in a supp
 ortive environment.\nThrough guided conversation practice\, expanded vocab
 ulary\, sentence-building activities\, and engaging games\, students learn
  to express themselves more clearly in Spanish. The focus is on communicat
 ion\, participation\, and confidence—helping students feel comfortable r
 esponding and interacting naturally as their skills grow.\nThis class is i
 deal for students who are ready to move beyond the basics and continue the
 ir Spanish learning journey with greater independence.\nNo Class: Please n
 ote\, this class will not meet on July 4.\nBy registering\, you agree to t
 he terms outlined in our Student Agreement and Refund Policy.
ATTACH;FMTTYPE=image/jpeg:https://ilsca.com/wp-content/uploads/2024/12/lea
 rn-Spanish.png
CATEGORIES:Spanish
LOCATION:Pitzer College\, 1050 North Mills ave\, Claremont\, California\, 9
 1711\, United States
X-APPLE-STRUCTURED-LOCATION;VALUE=URI;X-ADDRESS=1050 North Mills ave\, Clar
 emont\, California\, 91711\, United States;X-APPLE-RADIUS=100;X-TITLE=Pitz
 er College:geo:0,0
END:VEVENT
BEGIN:VTIMEZONE
TZID:America/Los_Angeles
X-LIC-LOCATION:America/Los_Angeles
BEGIN:DAYLIGHT
DTSTART:20260308T030000
TZOFFSETFROM:-0800
TZOFFSETTO:-0700
TZNAME:PDT
END:DAYLIGHT
END:VTIMEZONE
END:VCALENDAR