BEGIN:VCALENDAR
VERSION:2.0
PRODID:-//wp-events-plugin.com//7.2.3.1//EN
TZID:America/Los_Angeles
X-WR-TIMEZONE:America/Los_Angeles
BEGIN:VEVENT
UID:148@ilsca.com
DTSTART;TZID=America/Los_Angeles:20260613T090000
DTEND;TZID=America/Los_Angeles:20260801T100000
DTSTAMP:20260207T020311Z
URL:https://ilsca.com/events/kids-spanish-conversation-heritage-learners-a
 ges-5-12-sat/
SUMMARY:Kids Spanish Conversation (Heritage Learners) - Ages 5-12\, Sat
DESCRIPTION:Class Information\nAges: Children 5–12Language Level: For chi
 ldren who already speak Spanish at home or are enrolled in a Dual Language
  Immersion (DLI) program\nDescription:This class is designed for heritage 
 Spanish speakers and DLI students who want to strengthen their speaking an
 d conversation skills in a fun\, supportive environment. The primary focus
  is on using Spanish confidently through meaningful\, age-appropriate conv
 ersations.\nThrough stories\, role-play\, games\, songs\, and interactive 
 activities\, students practice everyday speaking\, expand vocabulary\, and
  improve clarity and expression. Lessons encourage children to think\, res
 pond\, and communicate naturally in Spanish—helping them feel confident 
 using the language in real-life situations at school\, at home\, and in th
 e community.\nNo Class: Please note\, this class will not meet on July 4.\
 nBy registering\, you agree to the terms outlined in our Student Agreement
  and Refund Policy.\n&nbsp\;
ATTACH;FMTTYPE=image/jpeg:https://ilsca.com/wp-content/uploads/2024/12/lea
 rn-Spanish.png
CATEGORIES:Spanish
LOCATION:Pitzer College\, 1050 North Mills ave\, Claremont\, California\, 9
 1711\, United States
X-APPLE-STRUCTURED-LOCATION;VALUE=URI;X-ADDRESS=1050 North Mills ave\, Clar
 emont\, California\, 91711\, United States;X-APPLE-RADIUS=100;X-TITLE=Pitz
 er College:geo:0,0
END:VEVENT
BEGIN:VTIMEZONE
TZID:America/Los_Angeles
X-LIC-LOCATION:America/Los_Angeles
BEGIN:DAYLIGHT
DTSTART:20260308T030000
TZOFFSETFROM:-0800
TZOFFSETTO:-0700
TZNAME:PDT
END:DAYLIGHT
END:VTIMEZONE
END:VCALENDAR