BEGIN:VCALENDAR
VERSION:2.0
PRODID:-//wp-events-plugin.com//7.2.3.1//EN
TZID:America/Los_Angeles
X-WR-TIMEZONE:America/Los_Angeles
BEGIN:VEVENT
UID:145@ilsca.com
DTSTART;TZID=America/Los_Angeles:20260613T081500
DTEND;TZID=America/Los_Angeles:20260801T090000
DTSTAMP:20260207T015119Z
URL:https://ilsca.com/events/kids-spanish-parent-and-toddlers-ages-18-mo-3
 -yr-sat/
SUMMARY:Kids Spanish Parent and Toddlers  (Ages 18 mo - 3 yr) - Sat
DESCRIPTION:Class Information\nAges: Children 18 months–3 years (with par
 ent or caregiver)Language Level: All levels welcome — no Spanish experie
 nce required\nDescription:This class invites parents and toddlers to learn
  Spanish together through joyful\, age-appropriate activities in a warm\, 
 supportive environment. Parents actively participate alongside their child
 \, creating a shared learning experience that strengthens bonding while su
 pporting early language development.\nThrough songs\, movement\, play\, an
 d interactive routines\, children are naturally exposed to Spanish while f
 eeling safe\, engaged\, and connected. The focus is on fun\, comfort\, and
  positive early experiences with language—so learning feels natural for 
 both parent and child.\nNo Class: Please note\, there will be no class on 
 July 4.\nBy registering\, you agree to the terms outlined in our Student A
 greement and Refund Policy.
ATTACH;FMTTYPE=image/jpeg:https://ilsca.com/wp-content/uploads/2024/12/lea
 rn-Spanish.png
CATEGORIES:Spanish
LOCATION:Pitzer College\, 1050 North Mills ave\, Claremont\, California\, 9
 1711\, United States
X-APPLE-STRUCTURED-LOCATION;VALUE=URI;X-ADDRESS=1050 North Mills ave\, Clar
 emont\, California\, 91711\, United States;X-APPLE-RADIUS=100;X-TITLE=Pitz
 er College:geo:0,0
END:VEVENT
BEGIN:VTIMEZONE
TZID:America/Los_Angeles
X-LIC-LOCATION:America/Los_Angeles
BEGIN:DAYLIGHT
DTSTART:20260308T030000
TZOFFSETFROM:-0800
TZOFFSETTO:-0700
TZNAME:PDT
END:DAYLIGHT
END:VTIMEZONE
END:VCALENDAR