BEGIN:VCALENDAR
VERSION:2.0
PRODID:-//wp-events-plugin.com//7.2.3.1//EN
TZID:America/Los_Angeles
X-WR-TIMEZONE:America/Los_Angeles
BEGIN:VEVENT
UID:152@ilsca.com
DTSTART;TZID=America/Los_Angeles:20260613T110000
DTEND;TZID=America/Los_Angeles:20260801T120000
DTSTAMP:20260207T023008Z
URL:https://ilsca.com/events/kids-spanish-preeschoolers-2-ages-3-5-sat/
SUMMARY:Kids Spanish Preeschoolers 2 (Ages 3-5) - Sat
DESCRIPTION:Class Information\nAges: Children 3–5Language Level: For chil
 dren who have completed Beginner Spanish or have equivalent experience\nDe
 scription:This drop-off class is the next step for preschoolers who alread
 y have some exposure to Spanish and are ready to continue building their s
 kills. In a warm\, supportive environment\, children participate independe
 ntly while instructors provide gentle guidance and encouragement.\nThrough
  songs\, games\, movement\, storytelling\, and interactive activities\, ch
 ildren expand vocabulary\, begin forming simple sentences\, and grow more 
 comfortable using Spanish. The focus is on confidence\, participation\, an
 d joyful communication—helping young learners feel successful as they co
 ntinue their Spanish journey.\nNo Class: Please note\, this class will not
  meet on July 2.\nBy registering\, you agree to the terms outlined in our 
 Student Agreement and Refund Policy.
ATTACH;FMTTYPE=image/jpeg:https://ilsca.com/wp-content/uploads/2024/12/lea
 rn-Spanish.png
CATEGORIES:Spanish
LOCATION:Pitzer College\, 1050 North Mills ave\, Claremont\, California\, 9
 1711\, United States
X-APPLE-STRUCTURED-LOCATION;VALUE=URI;X-ADDRESS=1050 North Mills ave\, Clar
 emont\, California\, 91711\, United States;X-APPLE-RADIUS=100;X-TITLE=Pitz
 er College:geo:0,0
END:VEVENT
BEGIN:VTIMEZONE
TZID:America/Los_Angeles
X-LIC-LOCATION:America/Los_Angeles
BEGIN:DAYLIGHT
DTSTART:20260308T030000
TZOFFSETFROM:-0800
TZOFFSETTO:-0700
TZNAME:PDT
END:DAYLIGHT
END:VTIMEZONE
END:VCALENDAR