BEGIN:VCALENDAR
VERSION:2.0
PRODID:-//wp-events-plugin.com//7.2.3.1//EN
TZID:America/Los_Angeles
X-WR-TIMEZONE:America/Los_Angeles
BEGIN:VEVENT
UID:147@ilsca.com
DTSTART;TZID=America/Los_Angeles:20260613T090000
DTEND;TZID=America/Los_Angeles:20260801T100000
DTSTAMP:20260207T015852Z
URL:https://ilsca.com/events/kids-spanish-preschoolers-beginner-ages-3-5-s
 at/
SUMMARY:Kids Spanish Preschoolers Beginner (Ages 3-5) - Sat
DESCRIPTION:Class Information\nAges: Children 3–5Language Level: Beginner
  — no prior Spanish experience required\nDescription:This beginner class
  gives preschoolers a joyful and confidence-building introduction to Spani
 sh in a warm\, nurturing environment. Children participate independently w
 hile instructors provide gentle guidance\, encouragement\, and structure.\
 nThrough songs\, games\, movement\, and hands-on activities\, young learne
 rs are naturally introduced to Spanish in a playful and engaging way. The 
 focus is on comfort\, participation\, and positive early language experien
 ces—helping children feel successful and excited to learn from the very 
 first class.\nNo Class: Please note\, this class will not meet on July 4.\
 nBy registering\, you agree to the terms outlined in our Student Agreement
  and Refund Policy.
ATTACH;FMTTYPE=image/jpeg:https://ilsca.com/wp-content/uploads/2024/12/lea
 rn-Spanish.png
CATEGORIES:Spanish
LOCATION:Pitzer College\, 1050 North Mills ave\, Claremont\, California\, 9
 1711\, United States
X-APPLE-STRUCTURED-LOCATION;VALUE=URI;X-ADDRESS=1050 North Mills ave\, Clar
 emont\, California\, 91711\, United States;X-APPLE-RADIUS=100;X-TITLE=Pitz
 er College:geo:0,0
END:VEVENT
BEGIN:VTIMEZONE
TZID:America/Los_Angeles
X-LIC-LOCATION:America/Los_Angeles
BEGIN:DAYLIGHT
DTSTART:20260308T030000
TZOFFSETFROM:-0800
TZOFFSETTO:-0700
TZNAME:PDT
END:DAYLIGHT
END:VTIMEZONE
END:VCALENDAR