BEGIN:VCALENDAR
VERSION:2.0
PRODID:-//wp-events-plugin.com//7.2.3.1//EN
TZID:America/Los_Angeles
X-WR-TIMEZONE:America/Los_Angeles
BEGIN:VEVENT
UID:121@ilsca.com
DTSTART;TZID=America/Los_Angeles:20260613T100000
DTEND;TZID=America/Los_Angeles:20260801T110000
DTSTAMP:20260205T171724Z
URL:https://ilsca.com/events/mandarin-chinese-for-adults-beginner-sat/
SUMMARY:Chinese Mandarin for Adults (Beginner)\, Sat
DESCRIPTION:Chinese Mandarin Adults (Beginner)\nAges: Adults 18+Language Le
 vel: No prior Chinese experience required\nDescription:This class offers a
 dult learners a welcoming\, confidence-building introduction to Mandarin C
 hinese in a supportive and interactive environment. Lessons focus on pract
 ical conversation and real-life language use\, helping students begin comm
 unicating comfortably without feeling overwhelmed.\nThrough conversation p
 ractice\, cultural insights\, and hands-on activities\, students build a s
 trong foundation in Mandarin while gaining confidence step by step. The em
 phasis is on steady progress\, comfort\, and enjoyment—making this class
  ideal for adults learning at an encouraging pace.\nNo class on July 4.\nB
 y registering\, you agree to the terms outlined in our Student Agreement a
 nd Refund Policy.
ATTACH;FMTTYPE=image/jpeg:https://ilsca.com/wp-content/uploads/2025/08/Chi
 nese-language-class.webp
CATEGORIES:Chinese Mandarin
LOCATION:Pitzer College\, 1050 North Mills ave\, Claremont\, California\, 9
 1711\, United States
X-APPLE-STRUCTURED-LOCATION;VALUE=URI;X-ADDRESS=1050 North Mills ave\, Clar
 emont\, California\, 91711\, United States;X-APPLE-RADIUS=100;X-TITLE=Pitz
 er College:geo:0,0
END:VEVENT
BEGIN:VTIMEZONE
TZID:America/Los_Angeles
X-LIC-LOCATION:America/Los_Angeles
BEGIN:DAYLIGHT
DTSTART:20260308T030000
TZOFFSETFROM:-0800
TZOFFSETTO:-0700
TZNAME:PDT
END:DAYLIGHT
END:VTIMEZONE
END:VCALENDAR