BEGIN:VCALENDAR
VERSION:2.0
PRODID:-//wp-events-plugin.com//7.2.3.1//EN
TZID:America/Los_Angeles
X-WR-TIMEZONE:America/Los_Angeles
BEGIN:VEVENT
UID:81@ilsca.com
DTSTART;TZID=America/Los_Angeles:20260117T090000
DTEND;TZID=America/Los_Angeles:20260502T100000
DTSTAMP:20251204T214226Z
URL:https://ilsca.com/events/portuguese-beginner-adults-online-sat/
SUMMARY:Portuguese Beginner Adults\, Online Sat
DESCRIPTION:Class Information\nAges: For adults 18 years and older.\nLangua
 ge Level: Designed for adults with zero to little Portuguese knowledge.\nD
 escription: This class is designed for adult learners to develop basic Por
 tuguese skills in a supportive and interactive environment. Through conver
 sation practice\, cultural activities\, and practical exercises\, students
  will build confidence and foundational language abilities.\nNo Class: Ple
 ase note\, this class will not meet on February 14 and March 28\nBy regist
 ering\, you agree to the terms outlined in our Student Agreement and Refun
 d Policy.
ATTACH;FMTTYPE=image/jpeg:https://ilsca.com/wp-content/uploads/2025/08/Por
 tuguese-language-class.webp
CATEGORIES:Portuguese
END:VEVENT
BEGIN:VTIMEZONE
TZID:America/Los_Angeles
X-LIC-LOCATION:America/Los_Angeles
BEGIN:STANDARD
DTSTART:20251102T010000
TZOFFSETFROM:-0700
TZOFFSETTO:-0800
TZNAME:PST
END:STANDARD
BEGIN:DAYLIGHT
DTSTART:20260308T030000
TZOFFSETFROM:-0800
TZOFFSETTO:-0700
TZNAME:PDT
END:DAYLIGHT
END:VTIMEZONE
END:VCALENDAR