BEGIN:VCALENDAR
VERSION:2.0
PRODID:-//wp-events-plugin.com//7.2.3.1//EN
TZID:America/Los_Angeles
X-WR-TIMEZONE:America/Los_Angeles
BEGIN:VEVENT
UID:82@ilsca.com
DTSTART;TZID=America/Los_Angeles:20260117T100000
DTEND;TZID=America/Los_Angeles:20260502T110000
DTSTAMP:20251205T040907Z
URL:https://ilsca.com/events/portuguese-conversation-adults-online-sat/
SUMMARY:Portuguese Conversation Adults\, Online Sat
DESCRIPTION:Class Information\nAges: For adults 18 years and older.\nLangua
 ge Level: This is an advanced class designed for adults who have completed
  beginner Portuguese or have equivalent experience.\nDescription: In this 
 class\, you will focus on speaking and communicating in Portuguese. You wi
 ll practice real-life conversations\, improve your vocabulary and grammar\
 , and learn how to express yourself clearly. This class helps you gain con
 fidence in using Spanish in everyday situations.\nNo Class: Please note\, 
 this class will not meet on February 14 and March 28\nBy registering\, you
  agree to the terms outlined in our Student Agreement and Refund Policy.\n
 &nbsp\;
ATTACH;FMTTYPE=image/jpeg:https://ilsca.com/wp-content/uploads/2025/08/Por
 tuguese-language-class.webp
CATEGORIES:Portuguese
END:VEVENT
BEGIN:VTIMEZONE
TZID:America/Los_Angeles
X-LIC-LOCATION:America/Los_Angeles
BEGIN:STANDARD
DTSTART:20251102T010000
TZOFFSETFROM:-0700
TZOFFSETTO:-0800
TZNAME:PST
END:STANDARD
BEGIN:DAYLIGHT
DTSTART:20260308T030000
TZOFFSETFROM:-0800
TZOFFSETTO:-0700
TZNAME:PDT
END:DAYLIGHT
END:VTIMEZONE
END:VCALENDAR