BEGIN:VCALENDAR
VERSION:2.0
PRODID:-//wp-events-plugin.com//7.2.3.1//EN
TZID:America/Los_Angeles
X-WR-TIMEZONE:America/Los_Angeles
BEGIN:VEVENT
UID:134@ilsca.com
DTSTART;TZID=America/Los_Angeles:20260613T090000
DTEND;TZID=America/Los_Angeles:20260801T100000
DTSTAMP:20260206T191136Z
URL:https://ilsca.com/events/portuguese-for-adults-beginner-online-sat/
SUMMARY:Portuguese for Adults (Beginner)\, Online Sat
DESCRIPTION:Class Information\nAges: Adults 18+Language Level: No prior Por
 tuguese experience required\nDescription:This online class offers adult le
 arners a welcoming\, confidence-building introduction to Portuguese in a s
 upportive and interactive virtual environment. Designed for beginners\, le
 ssons focus on practical conversation and everyday communication so studen
 ts can start using Portuguese comfortably from the very beginning.\nThroug
 h guided speaking practice\, cultural insights\, and hands-on activities a
 dapted for online learning\, students build a strong foundation while gain
 ing confidence step by step. The class moves at an encouraging pace\, maki
 ng it ideal for adults who want to learn Portuguese in a flexible\, engagi
 ng\, and stress-free way from home.\nNo Class: Please note\, this class wi
 ll not meet on July 4.\nBy registering\, you agree to the terms outlined i
 n our Student Agreement and Refund Policy.
ATTACH;FMTTYPE=image/jpeg:https://ilsca.com/wp-content/uploads/2025/08/Por
 tuguese-language-class.webp
CATEGORIES:Portuguese
END:VEVENT
BEGIN:VTIMEZONE
TZID:America/Los_Angeles
X-LIC-LOCATION:America/Los_Angeles
BEGIN:DAYLIGHT
DTSTART:20260308T030000
TZOFFSETFROM:-0800
TZOFFSETTO:-0700
TZNAME:PDT
END:DAYLIGHT
END:VTIMEZONE
END:VCALENDAR