BEGIN:VCALENDAR
VERSION:2.0
PRODID:-//wp-events-plugin.com//7.2.3.1//EN
TZID:America/Los_Angeles
X-WR-TIMEZONE:America/Los_Angeles
BEGIN:VEVENT
UID:135@ilsca.com
DTSTART;TZID=America/Los_Angeles:20260613T100000
DTEND;TZID=America/Los_Angeles:20260801T110000
DTSTAMP:20260206T191938Z
URL:https://ilsca.com/events/portuguese-for-adults-conversation-online-sat
 /
SUMMARY:Portuguese for Adults (Conversation)\, Online Sat
DESCRIPTION:Class Information\nAges: Adults 18+Language Level: For adults w
 ho have completed Beginner Portuguese or have equivalent experience\nDescr
 iption:This online class is designed for adults who already have a basic f
 oundation in Portuguese and are ready to communicate with greater confiden
 ce. The focus is on speaking\, listening\, and expressing ideas clearly th
 rough guided conversation practice.\nStudents build fluency by practicing 
 real-life conversations\, expanding vocabulary\, and strengthening grammar
  in context. Lessons are interactive and adapted for online learning\, cre
 ating a supportive environment where students feel comfortable thinking\, 
 responding\, and communicating in Portuguese with greater ease.\nThis clas
 s is ideal for adults who want to move beyond the basics and gain confiden
 ce using Portuguese in everyday and social situations—from the convenien
 ce of home.\nNo classes: July 4.\nBy registering\, you agree to the terms 
 outlined in our Student Agreement and Refund Policy.\n&nbsp\;
ATTACH;FMTTYPE=image/jpeg:https://ilsca.com/wp-content/uploads/2025/08/Por
 tuguese-language-class.webp
CATEGORIES:Portuguese
END:VEVENT
BEGIN:VTIMEZONE
TZID:America/Los_Angeles
X-LIC-LOCATION:America/Los_Angeles
BEGIN:DAYLIGHT
DTSTART:20260308T030000
TZOFFSETFROM:-0800
TZOFFSETTO:-0700
TZNAME:PDT
END:DAYLIGHT
END:VTIMEZONE
END:VCALENDAR