BEGIN:VCALENDAR
VERSION:2.0
PRODID:-//wp-events-plugin.com//7.2.3.1//EN
TZID:America/Los_Angeles
X-WR-TIMEZONE:America/Los_Angeles
BEGIN:VEVENT
UID:96@ilsca.com
DTSTART;TZID=America/Los_Angeles:20260117T100000
DTEND;TZID=America/Los_Angeles:20260502T110000
DTSTAMP:20260127T045557Z
URL:https://ilsca.com/events/spanish-1-kids-ages-10-13-sat/
SUMMARY:Kids Spanish 1 - Ages 10-15\, Sat
DESCRIPTION:Class Information\nAges: For children 10 to 15 years old.\nLang
 uage Level: Designed for children with zero to little Spanish knowledge.\n
 Description: This is a drop-off class where children participate independe
 ntly. Through engaging songs\, games\, and hands-on activities\, young lea
 rners are introduced to Spanish in a fun\, nurturing environment.\nNo Clas
 s: Please note\, this class will not meet on March 28\nBy registering\, yo
 u agree to the terms outlined in our Student Agreement and Refund Policy.
ATTACH;FMTTYPE=image/jpeg:https://ilsca.com/wp-content/uploads/2024/12/lea
 rn-Spanish.png
CATEGORIES:Spanish
LOCATION:Pitzer College\, 1050 North Mills ave\, Claremont\, California\, 9
 1711\, United States
X-APPLE-STRUCTURED-LOCATION;VALUE=URI;X-ADDRESS=1050 North Mills ave\, Clar
 emont\, California\, 91711\, United States;X-APPLE-RADIUS=100;X-TITLE=Pitz
 er College:geo:0,0
END:VEVENT
BEGIN:VTIMEZONE
TZID:America/Los_Angeles
X-LIC-LOCATION:America/Los_Angeles
BEGIN:STANDARD
DTSTART:20251102T010000
TZOFFSETFROM:-0700
TZOFFSETTO:-0800
TZNAME:PST
END:STANDARD
BEGIN:DAYLIGHT
DTSTART:20260308T030000
TZOFFSETFROM:-0800
TZOFFSETTO:-0700
TZNAME:PDT
END:DAYLIGHT
END:VTIMEZONE
END:VCALENDAR