BEGIN:VCALENDAR
VERSION:2.0
PRODID:-//wp-events-plugin.com//7.2.3.1//EN
TZID:America/Los_Angeles
X-WR-TIMEZONE:America/Los_Angeles
BEGIN:VEVENT
UID:56@ilsca.com
DTSTART;TZID=America/Los_Angeles:20260114T163000
DTEND;TZID=America/Los_Angeles:20260429T173000
DTSTAMP:20251204T213438Z
URL:https://ilsca.com/events/spanish-1-kids-ages-6-12-online-wed/
SUMMARY:Kids Spanish 1 - Ages  6-12\,  Online Wed
DESCRIPTION:Class Information\nAges: For children 6 to 12 years old.\nLangu
 age Level: Designed for children with zero to little Spanish knowledge.\nD
 escription: This class meets online only where children participate indepe
 ndently. Through engaging songs\, games\, and hands-on activities\, young 
 learners are introduced to Spanish in a fun\, nurturing environment.\nNo C
 lass: Please note\, this class will not meet on February 18 and April 1\nB
 y registering\, you agree to the terms outlined in our Student Agreement a
 nd Refund Policy.
ATTACH;FMTTYPE=image/jpeg:https://ilsca.com/wp-content/uploads/2024/12/lea
 rn-Spanish.png
CATEGORIES:Spanish
END:VEVENT
BEGIN:VTIMEZONE
TZID:America/Los_Angeles
X-LIC-LOCATION:America/Los_Angeles
BEGIN:STANDARD
DTSTART:20251102T010000
TZOFFSETFROM:-0700
TZOFFSETTO:-0800
TZNAME:PST
END:STANDARD
BEGIN:DAYLIGHT
DTSTART:20260308T030000
TZOFFSETFROM:-0800
TZOFFSETTO:-0700
TZNAME:PDT
END:DAYLIGHT
END:VTIMEZONE
END:VCALENDAR