BEGIN:VCALENDAR
VERSION:2.0
PRODID:-//wp-events-plugin.com//7.2.3.1//EN
TZID:America/Los_Angeles
X-WR-TIMEZONE:America/Los_Angeles
BEGIN:VEVENT
UID:137@ilsca.com
DTSTART;TZID=America/Los_Angeles:20260609T183000
DTEND;TZID=America/Los_Angeles:20260728T193000
DTSTAMP:20260207T032215Z
URL:https://ilsca.com/events/spanish-2-for-adults-conversation-online-tue/
SUMMARY:Adults Spanish 2 (Conversation) - Online Tue
DESCRIPTION:Class Information\nAges: Adults 18+Language Level: For adults w
 ho have completed Beginner Spanish or have equivalent experience\nDescript
 ion:This online class is the natural next step for adults who already have
  a basic foundation in Spanish and are ready to communicate with greater c
 onfidence. Lessons focus on speaking\, listening\, and expressing ideas cl
 early through guided\, real-life conversation practice.\nStudents expand v
 ocabulary\, strengthen grammar in context\, and build fluency by practicin
 g everyday conversations in a supportive virtual environment. The emphasis
  is on clear communication\, steady progress\, and real-world use—helpin
 g students feel comfortable thinking\, responding\, and speaking Spanish w
 ith greater ease from home.\nNo Class: Please note\, this class will not m
 eet on July 7.\nBy registering\, you agree to the terms outlined in our St
 udent Agreement and Refund Policy.
ATTACH;FMTTYPE=image/jpeg:https://ilsca.com/wp-content/uploads/2024/12/lea
 rn-Spanish.png
CATEGORIES:Spanish
LOCATION:Pitzer College\, 1050 North Mills ave\, Claremont\, California\, 9
 1711\, United States
X-APPLE-STRUCTURED-LOCATION;VALUE=URI;X-ADDRESS=1050 North Mills ave\, Clar
 emont\, California\, 91711\, United States;X-APPLE-RADIUS=100;X-TITLE=Pitz
 er College:geo:0,0
END:VEVENT
BEGIN:VTIMEZONE
TZID:America/Los_Angeles
X-LIC-LOCATION:America/Los_Angeles
BEGIN:DAYLIGHT
DTSTART:20260308T030000
TZOFFSETFROM:-0800
TZOFFSETTO:-0700
TZNAME:PDT
END:DAYLIGHT
END:VTIMEZONE
END:VCALENDAR